BEGIN:VCALENDAR
VERSION:2.0
PRODID:-//Whitley County Chamber of Commerce &amp; Visitors Center - ECPv6.13.1//NONSGML v1.0//EN
CALSCALE:GREGORIAN
METHOD:PUBLISH
X-WR-CALNAME:Whitley County Chamber of Commerce &amp; Visitors Center
X-ORIGINAL-URL:https://whitleychamber.org
X-WR-CALDESC:Events for Whitley County Chamber of Commerce &amp; Visitors Center
REFRESH-INTERVAL;VALUE=DURATION:PT1H
X-Robots-Tag:noindex
X-PUBLISHED-TTL:PT1H
BEGIN:VTIMEZONE
TZID:America/Indiana/Indianapolis
BEGIN:DAYLIGHT
TZOFFSETFROM:-0500
TZOFFSETTO:-0400
TZNAME:EDT
DTSTART:20230312T070000
END:DAYLIGHT
BEGIN:STANDARD
TZOFFSETFROM:-0400
TZOFFSETTO:-0500
TZNAME:EST
DTSTART:20231105T060000
END:STANDARD
END:VTIMEZONE
BEGIN:VEVENT
DTSTART;VALUE=DATE:20230620
DTEND;VALUE=DATE:20230625
DTSTAMP:20260421T091659
CREATED:20230602T144005Z
LAST-MODIFIED:20230602T144005Z
UID:10000017-1687219200-1687651199@whitleychamber.org
SUMMARY:Old Settlers' Days
DESCRIPTION:As the much-anticipated 119th Annual Old Settlers Days Festival approaches\, we want to take a moment to express our heartfelt appreciation to the incredible sponsors who have come forward to support this beloved community event. Their unwavering commitment and generous contributions have paved the way for an unforgettable celebration that will bring our community together in joyous unity. In this blog\, we extend our deepest gratitude to all the sponsors who have joined hands with us to make this festival a resounding success. \nSponsorship plays a vital role in the success of events like the Old Settlers Days Festival. It allows us to create a vibrant and inclusive experience for all attendees\, showcasing the rich cultural heritage of our town and fostering a sense of community pride. We are incredibly grateful for the sponsors who have recognized the importance of this event and have chosen to support us wholeheartedly. \nTo our esteemed sponsors\, we want to express our sincerest gratitude for your unwavering belief in our vision and your commitment to our community. Your contributions\, whether financial\, in-kind\, or through services\, are invaluable in making the Old Settlers Days Festival a remarkable experience for all! \nYour support enables us to curate a diverse range of activities\, attractions\, and entertainment that will captivate the hearts and minds of festival-goers. From the vibrant cultural displays to the thrilling performances\, from the mouthwatering culinary delights to the engaging community activities\, each aspect of the festival will be elevated thanks to your generosity. \nWe anticipate the positive impact your sponsorship will have\, not only on the event itself but also on the lives of those who attend. Your support enables us to create cherished memories for families\, provide opportunities for local businesses\, and strengthen the bonds within our community. \nView more information here: https://oldsettlers.net/
URL:https://whitleychamber.org/event/old-settlers-days/
END:VEVENT
BEGIN:VEVENT
DTSTART;TZID=America/Indiana/Indianapolis:20230624T080000
DTEND;TZID=America/Indiana/Indianapolis:20230624T160000
DTSTAMP:20260421T091659
CREATED:20230602T142936Z
LAST-MODIFIED:20230602T142936Z
UID:10000016-1687593600-1687622400@whitleychamber.org
SUMMARY:Market on the Lawn at Old World Cafe & Shops at the Sanctuary
DESCRIPTION:A beautiful day to shop and enjoy the nice Summer weather! Vendors are setting up on the lawn outside The Shops at the Sanctuary & Old World Cafe. Enjoy soaps/lotions\, new and vintage clothing\, antiques\, honey and so much more! \n  \nInterested in setting up a booth? Just $10 for a 10×10′ area. Contact Old World Cafe or The Shops at the Sanctuary to secure your spot ahead of time!
URL:https://whitleychamber.org/event/market-on-the-lawn-at-old-world-cafe-shops-at-the-sanctuary/
END:VEVENT
END:VCALENDAR