BEGIN:VCALENDAR
VERSION:2.0
PRODID:-//Whitley County Chamber of Commerce &amp; Visitors Center - ECPv6.13.1//NONSGML v1.0//EN
CALSCALE:GREGORIAN
METHOD:PUBLISH
X-ORIGINAL-URL:https://whitleychamber.org
X-WR-CALDESC:Events for Whitley County Chamber of Commerce &amp; Visitors Center
REFRESH-INTERVAL;VALUE=DURATION:PT1H
X-Robots-Tag:noindex
X-PUBLISHED-TTL:PT1H
BEGIN:VTIMEZONE
TZID:America/Indiana/Indianapolis
BEGIN:DAYLIGHT
TZOFFSETFROM:-0500
TZOFFSETTO:-0400
TZNAME:EDT
DTSTART:20230312T070000
END:DAYLIGHT
BEGIN:STANDARD
TZOFFSETFROM:-0400
TZOFFSETTO:-0500
TZNAME:EST
DTSTART:20231105T060000
END:STANDARD
END:VTIMEZONE
BEGIN:VEVENT
DTSTART;TZID=America/Indiana/Indianapolis:20230628T110000
DTEND;TZID=America/Indiana/Indianapolis:20230628T120000
DTSTAMP:20260421T080443
CREATED:20230626T200745Z
LAST-MODIFIED:20230626T200950Z
UID:10000026-1687950000-1687953600@whitleychamber.org
SUMMARY:Shop Smart: Grocery Store Tours
DESCRIPTION:Grocery store tours are free educational workshops held at local grocery stores. You can expect to spend about 45 minutes learning how to shop and save\, how to read a food label\, how to make healthier choices\, and other tips and tricks. Spots are limited in each class to minimize a crowd. You will not actually be shopping at this time\, so you will not be bringing a cart. This event is FREE\, but you MUST fill out this registration form: https://forms.gle/dgLHSmMhHqF2gyZM6. Once you fill out the form\, you will receive an email a few days before the class confirming the meeting location. If you have any questions\, you can email Carlee at clarue@whitleygov.com. \nThis event is organized by the Whitley County Health Department.
URL:https://whitleychamber.org/event/shop-smart-grocery-store-tours/2023-06-28/1/
END:VEVENT
BEGIN:VEVENT
DTSTART;TZID=America/Indiana/Indianapolis:20230628T140000
DTEND;TZID=America/Indiana/Indianapolis:20230628T150000
DTSTAMP:20260421T080443
CREATED:20230626T200745Z
LAST-MODIFIED:20230626T200950Z
UID:10000027-1687960800-1687964400@whitleychamber.org
SUMMARY:Shop Smart: Grocery Store Tours
DESCRIPTION:Grocery store tours are free educational workshops held at local grocery stores. You can expect to spend about 45 minutes learning how to shop and save\, how to read a food label\, how to make healthier choices\, and other tips and tricks. Spots are limited in each class to minimize a crowd. You will not actually be shopping at this time\, so you will not be bringing a cart. This event is FREE\, but you MUST fill out this registration form: https://forms.gle/dgLHSmMhHqF2gyZM6. Once you fill out the form\, you will receive an email a few days before the class confirming the meeting location. If you have any questions\, you can email Carlee at clarue@whitleygov.com. \nThis event is organized by the Whitley County Health Department.
URL:https://whitleychamber.org/event/shop-smart-grocery-store-tours/2023-06-28/2/
END:VEVENT
END:VCALENDAR