BEGIN:VCALENDAR
VERSION:2.0
PRODID:-//Whitley County Chamber of Commerce &amp; Visitors Center - ECPv6.13.1//NONSGML v1.0//EN
CALSCALE:GREGORIAN
METHOD:PUBLISH
X-WR-CALNAME:Whitley County Chamber of Commerce &amp; Visitors Center
X-ORIGINAL-URL:https://whitleychamber.org
X-WR-CALDESC:Events for Whitley County Chamber of Commerce &amp; Visitors Center
REFRESH-INTERVAL;VALUE=DURATION:PT1H
X-Robots-Tag:noindex
X-PUBLISHED-TTL:PT1H
BEGIN:VTIMEZONE
TZID:America/Indiana/Indianapolis
BEGIN:DAYLIGHT
TZOFFSETFROM:-0500
TZOFFSETTO:-0400
TZNAME:EDT
DTSTART:20230312T070000
END:DAYLIGHT
BEGIN:STANDARD
TZOFFSETFROM:-0400
TZOFFSETTO:-0500
TZNAME:EST
DTSTART:20231105T060000
END:STANDARD
END:VTIMEZONE
BEGIN:VEVENT
DTSTART;TZID=America/Indiana/Indianapolis:20230711T170000
DTEND;TZID=America/Indiana/Indianapolis:20230711T183000
DTSTAMP:20260421T080723
CREATED:20230629T143412Z
LAST-MODIFIED:20230629T143412Z
UID:10000037-1689094800-1689100200@whitleychamber.org
SUMMARY:Sips and Scents at Sage + Stone
DESCRIPTION:Join us after work for some Holistic Creations! Stop in at Sage + Stone located around the Square to put in an order for your custom blended Essential Oil product (Bath salts\, sprays\, diffusers\, roll ons\, massage/bath oils\, and sugar scrubs available) and then stop in to Columbia City Nutrition to make your own tea bomb! Price will vary depending on your choices BUT you can expect to spend anywhere from $14-$30 on both the tea and essential oil product. Grab a friend and lets get crafty!
URL:https://whitleychamber.org/event/sips-and-scents-at-sage-stone/
END:VEVENT
BEGIN:VEVENT
DTSTART;TZID=America/Indiana/Indianapolis:20230711T180000
DTEND;TZID=America/Indiana/Indianapolis:20230711T193000
DTSTAMP:20260421T080723
CREATED:20230629T143235Z
LAST-MODIFIED:20230629T143235Z
UID:10000036-1689098400-1689103800@whitleychamber.org
SUMMARY:Miss Whitley County Scholarship Program Pageant
DESCRIPTION:Held at First Church of God.
URL:https://whitleychamber.org/event/miss-whitley-county-scholarship-program-pageant/
END:VEVENT
END:VCALENDAR