BEGIN:VCALENDAR
VERSION:2.0
PRODID:-//Whitley County Chamber of Commerce &amp; Visitors Center - ECPv6.13.1//NONSGML v1.0//EN
CALSCALE:GREGORIAN
METHOD:PUBLISH
X-ORIGINAL-URL:https://whitleychamber.org
X-WR-CALDESC:Events for Whitley County Chamber of Commerce &amp; Visitors Center
REFRESH-INTERVAL;VALUE=DURATION:PT1H
X-Robots-Tag:noindex
X-PUBLISHED-TTL:PT1H
BEGIN:VTIMEZONE
TZID:America/Indiana/Indianapolis
BEGIN:DAYLIGHT
TZOFFSETFROM:-0500
TZOFFSETTO:-0400
TZNAME:EDT
DTSTART:20230312T070000
END:DAYLIGHT
BEGIN:STANDARD
TZOFFSETFROM:-0400
TZOFFSETTO:-0500
TZNAME:EST
DTSTART:20231105T060000
END:STANDARD
END:VTIMEZONE
BEGIN:VEVENT
DTSTART;TZID=America/Indiana/Indianapolis:20230729T180000
DTEND;TZID=America/Indiana/Indianapolis:20230729T210000
DTSTAMP:20260421T080420
CREATED:20230620T161604Z
LAST-MODIFIED:20230620T161747Z
UID:10000024-1690653600-1690664400@whitleychamber.org
SUMMARY:Date Night\, Game Night!
DESCRIPTION:  \nCouples\, please join us Saturday\, July 29th from 6-9pm at the delicious Pickles Café for a fun evening of appetizers\, dessert\, nonalcoholic drinks (you may BYOB though)\, and tabletop games! Every person will receive a party favor and one lucky couple will win a date night themed gift basket! Cost is $65 per couple and can be purchased here: https://www.bkplans.com/shop?fbclid=IwAR3bMq6Xm-7WKKz80SrQ22tNxt7XFZkVt6A8-Xw6tHCN5r5mS6quzU1V6yQ
URL:https://whitleychamber.org/event/date-night-game-night/
END:VEVENT
END:VCALENDAR