BEGIN:VCALENDAR
VERSION:2.0
PRODID:-//Whitley County Chamber of Commerce &amp; Visitors Center - ECPv6.13.1//NONSGML v1.0//EN
CALSCALE:GREGORIAN
METHOD:PUBLISH
X-WR-CALNAME:Whitley County Chamber of Commerce &amp; Visitors Center
X-ORIGINAL-URL:https://whitleychamber.org
X-WR-CALDESC:Events for Whitley County Chamber of Commerce &amp; Visitors Center
REFRESH-INTERVAL;VALUE=DURATION:PT1H
X-Robots-Tag:noindex
X-PUBLISHED-TTL:PT1H
BEGIN:VTIMEZONE
TZID:America/Indiana/Indianapolis
BEGIN:DAYLIGHT
TZOFFSETFROM:-0500
TZOFFSETTO:-0400
TZNAME:EDT
DTSTART:20230312T070000
END:DAYLIGHT
BEGIN:STANDARD
TZOFFSETFROM:-0400
TZOFFSETTO:-0500
TZNAME:EST
DTSTART:20231105T060000
END:STANDARD
END:VTIMEZONE
BEGIN:VEVENT
DTSTART;TZID=America/Indiana/Indianapolis:20230805T090000
DTEND;TZID=America/Indiana/Indianapolis:20230805T170000
DTSTAMP:20260421T080158
CREATED:20230710T165609Z
LAST-MODIFIED:20230710T165609Z
UID:10000040-1691226000-1691254800@whitleychamber.org
SUMMARY:Bags\, Brews & Barbecue - Cornhole Tournament & Beer Garden at American Legion Post 157 Churubusco
DESCRIPTION:Cornhole tournament\, beer garden\, and Nico’s BBQ! Public welcome! Proceeds benefit the building fund. \n9am registrations for cornhole teams. $30 per team. Play starts at 10am. \n\nNico’s BBQ\nBrisket with 2 sides $15\nPulled pork with 1 side $10\nPut potatoes and mac & cheese sides\nMusic\, raffles\, tip boards\, and more. \nFor more information\, visit their Facebook event here.
URL:https://whitleychamber.org/event/bags-brews-barbecue/
END:VEVENT
END:VCALENDAR