BEGIN:VCALENDAR
VERSION:2.0
PRODID:-//Whitley County Chamber of Commerce &amp; Visitors Center - ECPv6.13.1//NONSGML v1.0//EN
CALSCALE:GREGORIAN
METHOD:PUBLISH
X-WR-CALNAME:Whitley County Chamber of Commerce &amp; Visitors Center
X-ORIGINAL-URL:https://whitleychamber.org
X-WR-CALDESC:Events for Whitley County Chamber of Commerce &amp; Visitors Center
REFRESH-INTERVAL;VALUE=DURATION:PT1H
X-Robots-Tag:noindex
X-PUBLISHED-TTL:PT1H
BEGIN:VTIMEZONE
TZID:America/Indiana/Indianapolis
BEGIN:DAYLIGHT
TZOFFSETFROM:-0500
TZOFFSETTO:-0400
TZNAME:EDT
DTSTART:20230312T070000
END:DAYLIGHT
BEGIN:STANDARD
TZOFFSETFROM:-0400
TZOFFSETTO:-0500
TZNAME:EST
DTSTART:20231105T060000
END:STANDARD
END:VTIMEZONE
BEGIN:VEVENT
DTSTART;TZID=America/Indiana/Indianapolis:20230817T100000
DTEND;TZID=America/Indiana/Indianapolis:20230817T170000
DTSTAMP:20260421T081804
CREATED:20230516T135601Z
LAST-MODIFIED:20230602T142723Z
UID:10000010-1692266400-1692291600@whitleychamber.org
SUMMARY:2023 Whitley Chamber Golf Classic
DESCRIPTION:Join us for the highly anticipated Whitley Chamber Golf Classic\, a day of excitement\, camaraderie\, and community support. Create a team or make a donation to this unforgettable event\, where business leaders and professionals come together on the greens. Whether you’re a seasoned golfer or a beginner\, showcase your skills and connect with like-minded individuals who share your passion for success. Enjoy contests\, fabulous prizes\, and delicious refreshments\, all while making a difference in our vibrant business community. Register now at https://whitleychamber.org/events/ to secure your spot at this thrilling day of golf\, where dreams turn into reality.
URL:https://whitleychamber.org/event/chamber-golf-outing/
END:VEVENT
END:VCALENDAR