BEGIN:VCALENDAR
VERSION:2.0
PRODID:-//Whitley County Chamber of Commerce &amp; Visitors Center - ECPv6.13.1//NONSGML v1.0//EN
CALSCALE:GREGORIAN
METHOD:PUBLISH
X-ORIGINAL-URL:https://whitleychamber.org
X-WR-CALDESC:Events for Whitley County Chamber of Commerce &amp; Visitors Center
REFRESH-INTERVAL;VALUE=DURATION:PT1H
X-Robots-Tag:noindex
X-PUBLISHED-TTL:PT1H
BEGIN:VTIMEZONE
TZID:America/Indiana/Indianapolis
BEGIN:DAYLIGHT
TZOFFSETFROM:-0500
TZOFFSETTO:-0400
TZNAME:EDT
DTSTART:20230312T070000
END:DAYLIGHT
BEGIN:STANDARD
TZOFFSETFROM:-0400
TZOFFSETTO:-0500
TZNAME:EST
DTSTART:20231105T060000
END:STANDARD
END:VTIMEZONE
BEGIN:VEVENT
DTSTART;TZID=America/Indiana/Indianapolis:20231020T170000
DTEND;TZID=America/Indiana/Indianapolis:20231020T190000
DTSTAMP:20260421T091905
CREATED:20230925T131915Z
LAST-MODIFIED:20230925T133531Z
UID:10000050-1697821200-1697828400@whitleychamber.org
SUMMARY:Ladies Night Out Promo at Andy's Car Wash
DESCRIPTION:Stop by Andy’s before you head to Ladies Night Out for $5 OFF Ultimate Works. \nAndy’s Car Wash \n255 Frontage Rd\nColumbia City\, IN 46725
URL:https://whitleychamber.org/event/ladies-night-out-promo-at-andys-car-wash/
END:VEVENT
END:VCALENDAR