BEGIN:VCALENDAR
VERSION:2.0
PRODID:-//Whitley County Chamber of Commerce &amp; Visitors Center - ECPv6.13.1//NONSGML v1.0//EN
CALSCALE:GREGORIAN
METHOD:PUBLISH
X-ORIGINAL-URL:https://whitleychamber.org
X-WR-CALDESC:Events for Whitley County Chamber of Commerce &amp; Visitors Center
REFRESH-INTERVAL;VALUE=DURATION:PT1H
X-Robots-Tag:noindex
X-PUBLISHED-TTL:PT1H
BEGIN:VTIMEZONE
TZID:America/Indiana/Indianapolis
BEGIN:DAYLIGHT
TZOFFSETFROM:-0500
TZOFFSETTO:-0400
TZNAME:EDT
DTSTART:20230312T070000
END:DAYLIGHT
BEGIN:STANDARD
TZOFFSETFROM:-0400
TZOFFSETTO:-0500
TZNAME:EST
DTSTART:20231105T060000
END:STANDARD
END:VTIMEZONE
BEGIN:VEVENT
DTSTART;TZID=America/Indiana/Indianapolis:20231027T153000
DTEND;TZID=America/Indiana/Indianapolis:20231027T183000
DTSTAMP:20260421T091938
CREATED:20230925T132415Z
LAST-MODIFIED:20230925T132415Z
UID:10000053-1698420600-1698431400@whitleychamber.org
SUMMARY:Lil Pumpkins on the Square - Whitley County Business Trick-or-Treat
DESCRIPTION:All Whitley County businesses are invited to participate.
URL:https://whitleychamber.org/event/lil-pumpkins-on-the-square-whitley-county-business-trick-or-treat/
END:VEVENT
END:VCALENDAR