BEGIN:VCALENDAR
VERSION:2.0
PRODID:-//Whitley County Chamber of Commerce &amp; Visitors Center - ECPv6.13.1//NONSGML v1.0//EN
CALSCALE:GREGORIAN
METHOD:PUBLISH
X-WR-CALNAME:Whitley County Chamber of Commerce &amp; Visitors Center
X-ORIGINAL-URL:https://whitleychamber.org
X-WR-CALDESC:Events for Whitley County Chamber of Commerce &amp; Visitors Center
REFRESH-INTERVAL;VALUE=DURATION:PT1H
X-Robots-Tag:noindex
X-PUBLISHED-TTL:PT1H
BEGIN:VTIMEZONE
TZID:America/Indiana/Indianapolis
BEGIN:DAYLIGHT
TZOFFSETFROM:-0500
TZOFFSETTO:-0400
TZNAME:EDT
DTSTART:20230312T070000
END:DAYLIGHT
BEGIN:STANDARD
TZOFFSETFROM:-0400
TZOFFSETTO:-0500
TZNAME:EST
DTSTART:20231105T060000
END:STANDARD
END:VTIMEZONE
BEGIN:VEVENT
DTSTART;TZID=America/Indiana/Indianapolis:20231104T083000
DTEND;TZID=America/Indiana/Indianapolis:20231104T170000
DTSTAMP:20260421T091659
CREATED:20230828T130453Z
LAST-MODIFIED:20230828T130538Z
UID:10000044-1699086600-1699117200@whitleychamber.org
SUMMARY:Greater Fort Wayne Crime Stoppers Run Out Crime 4 The City
DESCRIPTION:All ages welcome! Runners Fee of $29.\nPurchase your tickets here: https://runsignup.com/Race/IN/FortWayne/RunOutCrime4TheCityGFWCrimeStoppers \n– \nShoaff Park 6401 St. Joe Rd. Fort Wayne\, IN 46835 \n– \nCrime Stoppers is funded through charitable contributions and fundraisers. All net proceeds aid in the prosecution of crime in the Fort Wayne community and surrounding areas. The Greater Crime Stoppers Board of Directors is asking for your help to continue our work in aiding the prosecution of crime in our community. Please consider being a participant of our “Run Out Crime 4 the City” 4K run.
URL:https://whitleychamber.org/event/crime-stoppers-run/
END:VEVENT
BEGIN:VEVENT
DTSTART;TZID=America/Indiana/Indianapolis:20231104T090000
DTEND;TZID=America/Indiana/Indianapolis:20231104T170000
DTSTAMP:20260421T091659
CREATED:20231023T141608Z
LAST-MODIFIED:20231023T141608Z
UID:10000060-1699088400-1699117200@whitleychamber.org
SUMMARY:Christmas Open House at The Mercantile
DESCRIPTION:
URL:https://whitleychamber.org/event/christmas-open-house-at-the-mercantile/
END:VEVENT
END:VCALENDAR