BEGIN:VCALENDAR
VERSION:2.0
PRODID:-//Whitley County Chamber of Commerce &amp; Visitors Center - ECPv6.13.1//NONSGML v1.0//EN
CALSCALE:GREGORIAN
METHOD:PUBLISH
X-WR-CALNAME:Whitley County Chamber of Commerce &amp; Visitors Center
X-ORIGINAL-URL:https://whitleychamber.org
X-WR-CALDESC:Events for Whitley County Chamber of Commerce &amp; Visitors Center
REFRESH-INTERVAL;VALUE=DURATION:PT1H
X-Robots-Tag:noindex
X-PUBLISHED-TTL:PT1H
BEGIN:VTIMEZONE
TZID:America/Indiana/Indianapolis
BEGIN:DAYLIGHT
TZOFFSETFROM:-0500
TZOFFSETTO:-0400
TZNAME:EDT
DTSTART:20230312T070000
END:DAYLIGHT
BEGIN:STANDARD
TZOFFSETFROM:-0400
TZOFFSETTO:-0500
TZNAME:EST
DTSTART:20231105T060000
END:STANDARD
END:VTIMEZONE
BEGIN:VEVENT
DTSTART;VALUE=DATE:20231118
DTEND;VALUE=DATE:20231126
DTSTAMP:20260421T103010
CREATED:20230925T133726Z
LAST-MODIFIED:20231023T181410Z
UID:10000058-1700265600-1700956799@whitleychamber.org
SUMMARY:"Thankful for YOU Special" at Andy's Car Wash
DESCRIPTION:Buy 4 Washes Get 2 FREE (valid on Super Works & Works Books) \nAndy’s Car Wash \n255 Frontage Rd\nColumbia City\, IN 46725
URL:https://whitleychamber.org/event/thankful-for-you-special-at-andys-car-wash/
END:VEVENT
END:VCALENDAR