BEGIN:VCALENDAR
VERSION:2.0
PRODID:-//Whitley County Chamber of Commerce &amp; Visitors Center - ECPv6.13.1//NONSGML v1.0//EN
CALSCALE:GREGORIAN
METHOD:PUBLISH
X-WR-CALNAME:Whitley County Chamber of Commerce &amp; Visitors Center
X-ORIGINAL-URL:https://whitleychamber.org
X-WR-CALDESC:Events for Whitley County Chamber of Commerce &amp; Visitors Center
REFRESH-INTERVAL;VALUE=DURATION:PT1H
X-Robots-Tag:noindex
X-PUBLISHED-TTL:PT1H
BEGIN:VTIMEZONE
TZID:America/Indiana/Indianapolis
BEGIN:DAYLIGHT
TZOFFSETFROM:-0500
TZOFFSETTO:-0400
TZNAME:EDT
DTSTART:20230312T070000
END:DAYLIGHT
BEGIN:STANDARD
TZOFFSETFROM:-0400
TZOFFSETTO:-0500
TZNAME:EST
DTSTART:20231105T060000
END:STANDARD
END:VTIMEZONE
BEGIN:VEVENT
DTSTART;VALUE=DATE:20231211
DTEND;VALUE=DATE:20231222
DTSTAMP:20260421T120503
CREATED:20231211T180817Z
LAST-MODIFIED:20231211T180831Z
UID:10000072-1702252800-1703203199@whitleychamber.org
SUMMARY:12 Days of Christmas Social Media Giveaways with Andy's Car Wash
DESCRIPTION:Follow our business and the tagged business partners for your chance to WIN! Event ends 12/21/23
URL:https://whitleychamber.org/event/12-days-of-christmas-social-media-giveaways-with-andys-car-wash/
END:VEVENT
BEGIN:VEVENT
DTSTART;VALUE=DATE:20231215
DTEND;VALUE=DATE:20231225
DTSTAMP:20260421T120503
CREATED:20231211T181105Z
LAST-MODIFIED:20231211T181105Z
UID:10000073-1702598400-1703462399@whitleychamber.org
SUMMARY:Buy 4 Washes GET 2 FREE- Valid on Super Works & Works Washes at Andy's Car Wash
DESCRIPTION:Event is 12/15-12/24/2023
URL:https://whitleychamber.org/event/buy-4-washes-get-2-free-valid-on-super-works-works-washes-at-andys-car-wash/
END:VEVENT
BEGIN:VEVENT
DTSTART;TZID=America/Indiana/Indianapolis:20231216T083000
DTEND;TZID=America/Indiana/Indianapolis:20231216T110000
DTSTAMP:20260421T120503
CREATED:20231211T181444Z
LAST-MODIFIED:20231211T181513Z
UID:10000074-1702715400-1702724400@whitleychamber.org
SUMMARY:Breakfast with Santa at Paige's Crossing
DESCRIPTION:Join Us for Breakfast with Santa at Paige’s Crossing! \nDate: Saturday\, December 16th \nTime: 8:30 AM – 11 AM \nAdmission: $10 for adults\, $15 for children – Purchase here: https://paigescrossing.icardinc.net/WebSales/products \n  \nHere’s what’s on the menu:\nWe will have pancakes\, sausage\, fruit\, milk\, orange juice\, and water available! \nMeet Mr. and Mrs. Claus:\nBring your holiday wishes and meet the jolliest couple of the season! \nWrite a Letter to Santa:\nDon’t forget your letters to Santa! We’ll make sure they find their way to the North Pole. \nHot Chocolate Bar:\nWarm up with a delightful hot chocolate bar\, complete with all the toppings to make your cup extra special. \nJump Castle:\nKids will have a blast bouncing in the jump castle and releasing their holiday energy. \nCookie Decorating:\nGet creative with your cookie decorating skills\, and then enjoy your sweet masterpiece. \n  \n  \n 
URL:https://whitleychamber.org/event/breakfast-with-santa/
END:VEVENT
END:VCALENDAR