BEGIN:VCALENDAR
VERSION:2.0
PRODID:-//Whitley County Chamber of Commerce &amp; Visitors Center - ECPv6.13.1//NONSGML v1.0//EN
CALSCALE:GREGORIAN
METHOD:PUBLISH
X-ORIGINAL-URL:https://whitleychamber.org
X-WR-CALDESC:Events for Whitley County Chamber of Commerce &amp; Visitors Center
REFRESH-INTERVAL;VALUE=DURATION:PT1H
X-Robots-Tag:noindex
X-PUBLISHED-TTL:PT1H
BEGIN:VTIMEZONE
TZID:America/Indiana/Indianapolis
BEGIN:DAYLIGHT
TZOFFSETFROM:-0500
TZOFFSETTO:-0400
TZNAME:EDT
DTSTART:20230312T070000
END:DAYLIGHT
BEGIN:STANDARD
TZOFFSETFROM:-0400
TZOFFSETTO:-0500
TZNAME:EST
DTSTART:20231105T060000
END:STANDARD
END:VTIMEZONE
BEGIN:VEVENT
DTSTART;VALUE=DATE:20231215
DTEND;VALUE=DATE:20231225
DTSTAMP:20260421T120630
CREATED:20231211T181105Z
LAST-MODIFIED:20231211T181105Z
UID:10000073-1702598400-1703462399@whitleychamber.org
SUMMARY:Buy 4 Washes GET 2 FREE- Valid on Super Works & Works Washes at Andy's Car Wash
DESCRIPTION:Event is 12/15-12/24/2023
URL:https://whitleychamber.org/event/buy-4-washes-get-2-free-valid-on-super-works-works-washes-at-andys-car-wash/
END:VEVENT
BEGIN:VEVENT
DTSTART;TZID=America/Indiana/Indianapolis:20231222T173000
DTEND;TZID=America/Indiana/Indianapolis:20231222T190000
DTSTAMP:20260421T120630
CREATED:20231025T163818Z
LAST-MODIFIED:20231025T163818Z
UID:10000067-1703266200-1703271600@whitleychamber.org
SUMMARY:Wishing Tree\, Whitko Band & Fireworks in South Whitley
DESCRIPTION:(At the digital sign next to the bridge.) \nWishing Tree is from 5:30-6:30pm. \nWhitko Band “Chamber Winds” performing Christmas Carols at 6:30pm. \nLighting of the Wishing Tree immediately after band performance. \nFireworks immediately following the tree lighting ceremony! (Fireworks sponsored by Franciscan Fireworks in Columbia City. THANK YOU!)
URL:https://whitleychamber.org/event/wishing-tree-band-fireworks-isouth-whitley/
END:VEVENT
END:VCALENDAR