BEGIN:VCALENDAR
VERSION:2.0
PRODID:-//Whitley County Chamber of Commerce &amp; Visitors Center - ECPv6.13.1//NONSGML v1.0//EN
CALSCALE:GREGORIAN
METHOD:PUBLISH
X-ORIGINAL-URL:https://whitleychamber.org
X-WR-CALDESC:Events for Whitley County Chamber of Commerce &amp; Visitors Center
REFRESH-INTERVAL;VALUE=DURATION:PT1H
X-Robots-Tag:noindex
X-PUBLISHED-TTL:PT1H
BEGIN:VTIMEZONE
TZID:America/Indiana/Indianapolis
BEGIN:DAYLIGHT
TZOFFSETFROM:-0500
TZOFFSETTO:-0400
TZNAME:EDT
DTSTART:20240310T070000
END:DAYLIGHT
BEGIN:STANDARD
TZOFFSETFROM:-0400
TZOFFSETTO:-0500
TZNAME:EST
DTSTART:20241103T060000
END:STANDARD
END:VTIMEZONE
BEGIN:VEVENT
DTSTART;TZID=America/Indiana/Indianapolis:20240209T183000
DTEND;TZID=America/Indiana/Indianapolis:20240209T210000
DTSTAMP:20260421T144526
CREATED:20240111T032945Z
LAST-MODIFIED:20240111T032945Z
UID:10000086-1707503400-1707512400@whitleychamber.org
SUMMARY:DJ Shane\, Entertainment and Beverages at The Woodlands Senior Activity Center
DESCRIPTION:Doors will open at 6:30 PM for music with DJ Shane. Entertainment runs from 7-8:30 PM. Beer\, wine coolers\, and light snacks are available for purchase. This event is 21 years and over. \nHeld at The Woodlands Senior Activity Center\, located at 710 N. Opportunity Dr. Columbia City\, IN 46725. Meals are $5 and must be reserved two business days in advance by calling 260-248-8944.
URL:https://whitleychamber.org/event/dj-shane-entertainment-and-beverages-at-the-woodlands-senior-activity-center/
END:VEVENT
END:VCALENDAR