BEGIN:VCALENDAR
VERSION:2.0
PRODID:-//Whitley County Chamber of Commerce &amp; Visitors Center - ECPv6.13.1//NONSGML v1.0//EN
CALSCALE:GREGORIAN
METHOD:PUBLISH
X-ORIGINAL-URL:https://whitleychamber.org
X-WR-CALDESC:Events for Whitley County Chamber of Commerce &amp; Visitors Center
REFRESH-INTERVAL;VALUE=DURATION:PT1H
X-Robots-Tag:noindex
X-PUBLISHED-TTL:PT1H
BEGIN:VTIMEZONE
TZID:America/Indiana/Indianapolis
BEGIN:DAYLIGHT
TZOFFSETFROM:-0500
TZOFFSETTO:-0400
TZNAME:EDT
DTSTART:20240310T070000
END:DAYLIGHT
BEGIN:STANDARD
TZOFFSETFROM:-0400
TZOFFSETTO:-0500
TZNAME:EST
DTSTART:20241103T060000
END:STANDARD
END:VTIMEZONE
BEGIN:VEVENT
DTSTART;TZID=America/Indiana/Indianapolis:20240223T183000
DTEND;TZID=America/Indiana/Indianapolis:20240223T200000
DTSTAMP:20260421T144528
CREATED:20240207T161320Z
LAST-MODIFIED:20240207T161320Z
UID:10000093-1708713000-1708718400@whitleychamber.org
SUMMARY:South Whitley Cinema
DESCRIPTION:Timothee Chalamet and Rebecca Ferguson start in the 2021 sci-fi adventure film “Dune.” This film is rated PG-13. \n\n\n\nSouth Whitley Community Public Library\n\n\n\nFree Admission
URL:https://whitleychamber.org/event/south-whitley-cinema/
END:VEVENT
END:VCALENDAR