BEGIN:VCALENDAR
VERSION:2.0
PRODID:-//Whitley County Chamber of Commerce &amp; Visitors Center - ECPv6.13.1//NONSGML v1.0//EN
CALSCALE:GREGORIAN
METHOD:PUBLISH
X-WR-CALNAME:Whitley County Chamber of Commerce &amp; Visitors Center
X-ORIGINAL-URL:https://whitleychamber.org
X-WR-CALDESC:Events for Whitley County Chamber of Commerce &amp; Visitors Center
REFRESH-INTERVAL;VALUE=DURATION:PT1H
X-Robots-Tag:noindex
X-PUBLISHED-TTL:PT1H
BEGIN:VTIMEZONE
TZID:America/Indiana/Indianapolis
BEGIN:DAYLIGHT
TZOFFSETFROM:-0500
TZOFFSETTO:-0400
TZNAME:EDT
DTSTART:20240310T070000
END:DAYLIGHT
BEGIN:STANDARD
TZOFFSETFROM:-0400
TZOFFSETTO:-0500
TZNAME:EST
DTSTART:20241103T060000
END:STANDARD
END:VTIMEZONE
BEGIN:VEVENT
DTSTART;TZID=America/Indiana/Indianapolis:20240322T163000
DTEND;TZID=America/Indiana/Indianapolis:20240322T180000
DTSTAMP:20260421T160354
CREATED:20240305T185901Z
LAST-MODIFIED:20240305T185901Z
UID:10000099-1711125000-1711130400@whitleychamber.org
SUMMARY:The Waters Egg Hunt
DESCRIPTION:Bunny has been out and left some eggs for grabs! Bring little ones and big ones out to enjoy the Easter festivities! \nHeld at The Waters of Columbia City
URL:https://whitleychamber.org/event/the-waters-egg-hunt/
END:VEVENT
BEGIN:VEVENT
DTSTART;TZID=America/Indiana/Indianapolis:20240322T183000
DTEND;TZID=America/Indiana/Indianapolis:20240322T200000
DTSTAMP:20260421T160354
CREATED:20240207T161625Z
LAST-MODIFIED:20240207T161638Z
UID:10000096-1711132200-1711137600@whitleychamber.org
SUMMARY:South Whitley Cinema
DESCRIPTION:Held at the South Whitley Community Public Library. Free admission.\nJoin us in the auditorium for the action/fantasy movie Spider-Man Into the Spider-Verse. This film is rated PG.
URL:https://whitleychamber.org/event/south-whitley-cinema-2/
END:VEVENT
END:VCALENDAR