BEGIN:VCALENDAR
VERSION:2.0
PRODID:-//Whitley County Chamber of Commerce &amp; Visitors Center - ECPv6.13.1//NONSGML v1.0//EN
CALSCALE:GREGORIAN
METHOD:PUBLISH
X-ORIGINAL-URL:https://whitleychamber.org
X-WR-CALDESC:Events for Whitley County Chamber of Commerce &amp; Visitors Center
REFRESH-INTERVAL;VALUE=DURATION:PT1H
X-Robots-Tag:noindex
X-PUBLISHED-TTL:PT1H
BEGIN:VTIMEZONE
TZID:America/Indiana/Indianapolis
BEGIN:DAYLIGHT
TZOFFSETFROM:-0500
TZOFFSETTO:-0400
TZNAME:EDT
DTSTART:20240310T070000
END:DAYLIGHT
BEGIN:STANDARD
TZOFFSETFROM:-0400
TZOFFSETTO:-0500
TZNAME:EST
DTSTART:20241103T060000
END:STANDARD
END:VTIMEZONE
BEGIN:VEVENT
DTSTART;TZID=America/Indiana/Indianapolis:20240921T100000
DTEND;TZID=America/Indiana/Indianapolis:20240921T130000
DTSTAMP:20260422T004445
CREATED:20240829T204847Z
LAST-MODIFIED:20240830T183004Z
UID:10000123-1726912800-1726923600@whitleychamber.org
SUMMARY:Celebrating Andy's 25th Anniversary in Columbia City
DESCRIPTION:Come celebrate with us\, other local businesses\, food\, bounce house\, and fun for all! \n\n\n\n255 Frontage Rd. Columbia City\, IN 46725
URL:https://whitleychamber.org/event/celebrating-andys-25th-anniversary-in-columbia-city/
END:VEVENT
BEGIN:VEVENT
DTSTART;TZID=America/Indiana/Indianapolis:20240921T110000
DTEND;TZID=America/Indiana/Indianapolis:20240921T123000
DTSTAMP:20260422T004445
CREATED:20240717T180542Z
LAST-MODIFIED:20240717T180601Z
UID:10000121-1726916400-1726921800@whitleychamber.org
SUMMARY:Mizpah Shrine 75th Anniversary Celebration Parade
DESCRIPTION:September 18-22 at the Fort Wayne Headquarters \nParade on September 21 in Columbia City. Assemble at 11am\, step off at Noon. Meet at the former Columbia City High School property located at 400 N Whitley Street
URL:https://whitleychamber.org/event/mizpah-shrine-75th-anniversary-celebration-parade/
END:VEVENT
END:VCALENDAR