BEGIN:VCALENDAR
VERSION:2.0
PRODID:-//Whitley County Chamber of Commerce &amp; Visitors Center - ECPv6.13.1//NONSGML v1.0//EN
CALSCALE:GREGORIAN
METHOD:PUBLISH
X-ORIGINAL-URL:https://whitleychamber.org
X-WR-CALDESC:Events for Whitley County Chamber of Commerce &amp; Visitors Center
REFRESH-INTERVAL;VALUE=DURATION:PT1H
X-Robots-Tag:noindex
X-PUBLISHED-TTL:PT1H
BEGIN:VTIMEZONE
TZID:America/Indiana/Indianapolis
BEGIN:DAYLIGHT
TZOFFSETFROM:-0500
TZOFFSETTO:-0400
TZNAME:EDT
DTSTART:20250309T070000
END:DAYLIGHT
BEGIN:STANDARD
TZOFFSETFROM:-0400
TZOFFSETTO:-0500
TZNAME:EST
DTSTART:20251102T060000
END:STANDARD
END:VTIMEZONE
BEGIN:VEVENT
DTSTART;TZID=America/Indiana/Indianapolis:20250614T130000
DTEND;TZID=America/Indiana/Indianapolis:20250614T150000
DTSTAMP:20260421T125945
CREATED:20250516T144625Z
LAST-MODIFIED:20250516T144640Z
UID:10000186-1749906000-1749913200@whitleychamber.org
SUMMARY:Art Unraveled: Jasmine the Tattoo Artist
DESCRIPTION:Join us for an exciting afternoon with Columbia City’s very own Jasmine Lacey! We’ll be stepping into the world of this very talented tattoo artist as she walks us through her process. So if you want to see something cool or learn something new then come on in! Please remember to sign up prior to the program to reserve a spot. Patrons MUST be 18 or older to attend/sign up for this program! If for any reason you’ve signed up and are are unable to attend\, please cancel via online or over the phone so others may be able to! This program is made possible in part by Arts United of Greater Fort Wayne and the Indiana Arts Commission\, which receives support from the State of Indiana and the National Endowment for the Arts. \nMust be 18+ to participate\, free to attend! Just register at: https://peabody.librarymarket.com/event/copy-draft-adult-summer-read-event-20918 \n\n\n\nPeabody Public Library 1160 E SR 205 Columbia City\, IN 46725
URL:https://whitleychamber.org/event/art-unraveled-jasmine-the-tattoo-artist/
END:VEVENT
END:VCALENDAR