BEGIN:VCALENDAR
VERSION:2.0
PRODID:-//Whitley County Chamber of Commerce &amp; Visitors Center - ECPv6.13.1//NONSGML v1.0//EN
CALSCALE:GREGORIAN
METHOD:PUBLISH
X-WR-CALNAME:Whitley County Chamber of Commerce &amp; Visitors Center
X-ORIGINAL-URL:https://whitleychamber.org
X-WR-CALDESC:Events for Whitley County Chamber of Commerce &amp; Visitors Center
REFRESH-INTERVAL;VALUE=DURATION:PT1H
X-Robots-Tag:noindex
X-PUBLISHED-TTL:PT1H
BEGIN:VTIMEZONE
TZID:America/Indiana/Indianapolis
BEGIN:DAYLIGHT
TZOFFSETFROM:-0500
TZOFFSETTO:-0400
TZNAME:EDT
DTSTART:20250309T070000
END:DAYLIGHT
BEGIN:STANDARD
TZOFFSETFROM:-0400
TZOFFSETTO:-0500
TZNAME:EST
DTSTART:20251102T060000
END:STANDARD
END:VTIMEZONE
BEGIN:VEVENT
DTSTART;TZID=America/Indiana/Indianapolis:20250628T120000
DTEND;TZID=America/Indiana/Indianapolis:20250628T140000
DTSTAMP:20260421T125806
CREATED:20250516T144854Z
LAST-MODIFIED:20250516T144854Z
UID:10000188-1751112000-1751119200@whitleychamber.org
SUMMARY:Art Unraveled: Inman Woodworking
DESCRIPTION:Join us for a demonstration in the artistry of woodturning and scroll saw work with Fred and Rhonda Inman\, Inman Wood Artists. Fred and Rhonda Inman specialize in creating treasures out of reclaimed trees. Fred turns Wood Bowls & Vases\, makes cutting boards\, cheese cutters. He also makes natural Edge wood furniture that is at the Fort Wayne Museum of Art. Rhonda uses the Scroll Saw to make Christmas Ornaments\, Snow Flakes\, Wildlife & Horse Portraits and uses the Mini Lathe to create items such as Pens\, Eggoscopes\, Sea Urchin Ornaments\, Christmas Ornaments & more. Both join us today to talk about their work and show us a little bit of the magic and artistry behind woodworking. This program is made possible in part by Arts United of Greater Fort Wayne and the Indiana Arts Commission\, which receives support from the State of Indiana and the National Endowment for the Arts. \nMust be 18+ to attend\, free to participate!\nRegister at https://peabody.librarymarket.com/event/draft-adult-summer-read-event-20175 \nPeabody Public Library 1160 E SR 205 Columbia City\, IN 46725
URL:https://whitleychamber.org/event/art-unraveled-inman-woodworking/
END:VEVENT
END:VCALENDAR