BEGIN:VCALENDAR
VERSION:2.0
PRODID:-//Whitley County Chamber of Commerce &amp; Visitors Center - ECPv6.13.1//NONSGML v1.0//EN
CALSCALE:GREGORIAN
METHOD:PUBLISH
X-WR-CALNAME:Whitley County Chamber of Commerce &amp; Visitors Center
X-ORIGINAL-URL:https://whitleychamber.org
X-WR-CALDESC:Events for Whitley County Chamber of Commerce &amp; Visitors Center
REFRESH-INTERVAL;VALUE=DURATION:PT1H
X-Robots-Tag:noindex
X-PUBLISHED-TTL:PT1H
BEGIN:VTIMEZONE
TZID:America/Indiana/Indianapolis
BEGIN:DAYLIGHT
TZOFFSETFROM:-0500
TZOFFSETTO:-0400
TZNAME:EDT
DTSTART:20250309T070000
END:DAYLIGHT
BEGIN:STANDARD
TZOFFSETFROM:-0400
TZOFFSETTO:-0500
TZNAME:EST
DTSTART:20251102T060000
END:STANDARD
END:VTIMEZONE
BEGIN:VEVENT
DTSTART;TZID=America/Indiana/Indianapolis:20250916T163000
DTEND;TZID=America/Indiana/Indianapolis:20250916T173000
DTSTAMP:20260422T184402
CREATED:20250815T161043Z
LAST-MODIFIED:20250815T161043Z
UID:10000246-1758040200-1758043800@whitleychamber.org
SUMMARY:Teens Mindful Moments
DESCRIPTION:Take a moment out of your busy week to recharge\, take a breath\, and think about something other than your day-to-day worries and stresses. We will have different mindfulness activities\, calming coloring pages\, and offer guided meditations for you to try at home for when you need it the most. \nAges 12-18. FREE to attend. \nPeabody Public Library
URL:https://whitleychamber.org/event/teens-mindful-moments/
END:VEVENT
BEGIN:VEVENT
DTSTART;TZID=America/Indiana/Indianapolis:20250916T180000
DTEND;TZID=America/Indiana/Indianapolis:20250916T193000
DTSTAMP:20260422T184402
CREATED:20250815T161127Z
LAST-MODIFIED:20250815T161127Z
UID:10000247-1758045600-1758051000@whitleychamber.org
SUMMARY:Needle Felting Night: Camping
DESCRIPTION:Let’s get campy this month and felt up some fun camping items! \nPeabody Public Library \nAges 12-18. FREE to attend.
URL:https://whitleychamber.org/event/needle-felting-night-camping/
END:VEVENT
BEGIN:VEVENT
DTSTART;TZID=America/Indiana/Indianapolis:20250919T100000
DTEND;TZID=America/Indiana/Indianapolis:20250919T130000
DTSTAMP:20260422T184402
CREATED:20250625T184914Z
LAST-MODIFIED:20250625T184914Z
UID:10000217-1758276000-1758286800@whitleychamber.org
SUMMARY:The Woodlands Senior Health Fair
DESCRIPTION:Free admission & parking\, free lunch & ice cream\, free blood pressure checks\, immunizations station (bring your insurance cards)\, vendor booths w/giveaways\, and door prizes.\nWhitley County seniors 50+ and caregivers.\n4H Center – 680 W Squawbuck Rd\, Columbia City
URL:https://whitleychamber.org/event/the-woodlands-senior-health-fair/
END:VEVENT
BEGIN:VEVENT
DTSTART;TZID=America/Indiana/Indianapolis:20250920T080000
DTEND;TZID=America/Indiana/Indianapolis:20250920T200000
DTSTAMP:20260422T184402
CREATED:20250912T161241Z
LAST-MODIFIED:20250912T161241Z
UID:10000448-1758355200-1758398400@whitleychamber.org
SUMMARY:Andy's Car Wash 26th Anniversary
DESCRIPTION:VIP Members\, we’ve got something SPECIAL just for YOU! Everyone else will get a FREE gift (while supplies last) PLUS 50% OFF 2nd VIP Month for new members. \n255 Frontage Rd. Columbia City\, IN 46725
URL:https://whitleychamber.org/event/andys-car-wash-26th-anniversary/
END:VEVENT
BEGIN:VEVENT
DTSTART;TZID=America/Indiana/Indianapolis:20250920T150000
DTEND;TZID=America/Indiana/Indianapolis:20250920T200000
DTSTAMP:20260422T184402
CREATED:20250828T200058Z
LAST-MODIFIED:20250828T200058Z
UID:10000255-1758380400-1758398400@whitleychamber.org
SUMMARY:Prism Fest 2025
DESCRIPTION:Join us for Prism Fest 2025! This will be our second year hosting this event in beautiful downtown Columbia City\, Indiana!\n\nPrism Feat is a vibrant experience filled with live music\, food trucks\, vendors\, and a dedicated family zone. It’s an opportunity to come together as a community and celebrate the full spectrum of human identity and expression.\n\nWith a diverse lineup of LGBTQ+ artists\, performers\, and food trucks\, Prism Fest 2025 is a space for all to enjoy and be inspired. From handmade art to empowering performances\, this event promotes self-expression\, love\, and acceptance for everyone.\n\nWhether you’re enjoying delicious food\, shopping from local vendors\, or dancing to live music\, Prism Fest offers something for all ages. Join us in supporting Whitley County Pride’s mission and make lasting memories with a community that celebrates individuality and unity in every form. \nFACEBOOK EVENT LINK: https://www.facebook.com/events/1014546757389601
URL:https://whitleychamber.org/event/prism-fest-2025/
END:VEVENT
BEGIN:VEVENT
DTSTART;TZID=America/Indiana/Indianapolis:20250922T100000
DTEND;TZID=America/Indiana/Indianapolis:20250922T133000
DTSTAMP:20260422T184402
CREATED:20250625T185008Z
LAST-MODIFIED:20250625T185008Z
UID:10000218-1758535200-1758547800@whitleychamber.org
SUMMARY:Whitley County Senior Games
DESCRIPTION:Various games will take place between 9/22/25 thru 9/26/25. Please contact the Woodlands at 260-248-8944 for more information.\n\n\nGame start times vary from 10 a.m. to 1:30 p.m. Contact the Woodlands at 260-248-8944 for more information. \n$20 admission.
URL:https://whitleychamber.org/event/whitley-county-senior-games/
END:VEVENT
BEGIN:VEVENT
DTSTART;TZID=America/Indiana/Indianapolis:20250922T110000
DTEND;TZID=America/Indiana/Indianapolis:20250922T113000
DTSTAMP:20260422T184402
CREATED:20250815T161209Z
LAST-MODIFIED:20250815T161209Z
UID:10000248-1758538800-1758540600@whitleychamber.org
SUMMARY:Baby Safety Month: Nutrition Lessons
DESCRIPTION:Join in on this featured session for new parents during Baby Safety Month. We will discuss everything from prenatal and postpartum nutrition\, infant feeding\, and give an introduction to information about starting baby on solid foods. \nPeabody Public Library. FREE to attend.
URL:https://whitleychamber.org/event/baby-safety-month-nutrition-lessons/
END:VEVENT
BEGIN:VEVENT
DTSTART;TZID=America/Indiana/Indianapolis:20250923T163000
DTEND;TZID=America/Indiana/Indianapolis:20250923T173000
DTSTAMP:20260422T184402
CREATED:20250815T161245Z
LAST-MODIFIED:20250815T161245Z
UID:10000249-1758645000-1758648600@whitleychamber.org
SUMMARY:Teens Game Night at Peabody Public Library
DESCRIPTION:We will be playing One Night Ultimate Werewolf! A social deduction boardgame where the goal is for the Villagers to identify and eliminate the Werewolves\, while the Werewolves try to remain hidden and survive. \nAges 12-18. FREE to attend.
URL:https://whitleychamber.org/event/teens-game-night-at-peabody-public-library/
END:VEVENT
BEGIN:VEVENT
DTSTART;TZID=America/Indiana/Indianapolis:20250924T180000
DTEND;TZID=America/Indiana/Indianapolis:20250924T194500
DTSTAMP:20260422T184402
CREATED:20250815T161339Z
LAST-MODIFIED:20250815T161339Z
UID:10000250-1758736800-1758743100@whitleychamber.org
SUMMARY:Homespun Workings: Prim Ghost
DESCRIPTION:Each month we will explore different types of textiles as we create a homespun craft! This month join us as we make a “Prim Ghost” to start the spooky season! \nPeabody Public Library \nAges 18+. FREE to attend.
URL:https://whitleychamber.org/event/homespun-workings-prim-ghost/
END:VEVENT
BEGIN:VEVENT
DTSTART;TZID=America/Indiana/Indianapolis:20250929T100000
DTEND;TZID=America/Indiana/Indianapolis:20250929T110000
DTSTAMP:20260422T184402
CREATED:20250909T175445Z
LAST-MODIFIED:20250909T175445Z
UID:10000431-1759140000-1759143600@whitleychamber.org
SUMMARY:🚀 Level Up Your Business with the Chamber! 🚀 FREE Business Seminar
DESCRIPTION:Ready to take your business to the next level? Join us for a FREE seminar designed to help you grow and thrive! \n📅 Date: Monday\, September 29th\n⏰ Time: 10 AM – 11 AM\n📍 Location: Peabody Public Library \nTopic TBD
URL:https://whitleychamber.org/event/%f0%9f%9a%80-level-up-your-business-with-the-chamber-%f0%9f%9a%80-free-business-seminar-2/
END:VEVENT
BEGIN:VEVENT
DTSTART;TZID=America/Indiana/Indianapolis:20250929T100000
DTEND;TZID=America/Indiana/Indianapolis:20250929T120000
DTSTAMP:20260422T184402
CREATED:20250815T161437Z
LAST-MODIFIED:20250815T161437Z
UID:10000251-1759140000-1759147200@whitleychamber.org
SUMMARY:Baby Safety Month: Baby Fair
DESCRIPTION:Visit with local community organizations around the area to learn about all of the different things that are offered to your little ones and your whole family. From car seat checks\, free diapers\, to learning about everything that BABE has to offer\, you don’t want to miss this first annual event! This is a drop-in event with a Baby Storytime happening at 10:30am. \nPeabody Public Library. FREE to attend.
URL:https://whitleychamber.org/event/baby-safety-month-baby-fair/
END:VEVENT
BEGIN:VEVENT
DTSTART;TZID=America/Indiana/Indianapolis:20250929T130000
DTEND;TZID=America/Indiana/Indianapolis:20250929T140000
DTSTAMP:20260422T184403
CREATED:20250815T161513Z
LAST-MODIFIED:20250815T161513Z
UID:10000252-1759150800-1759154400@whitleychamber.org
SUMMARY:Homeschool Happenings: Careers
DESCRIPTION:This week the Master Gardeners of Whitley County will be here to teach us about all different types of careers you could possibly have relating to gardening! Interested in farming\, conservation\, groundskeeping\, or turf maintenance? Come check it out! \nPeabody Public Library \nAges 6-11. FREE to attend.
URL:https://whitleychamber.org/event/homeschool-happenings-careers/
END:VEVENT
BEGIN:VEVENT
DTSTART;TZID=America/Indiana/Indianapolis:20250930T163000
DTEND;TZID=America/Indiana/Indianapolis:20250930T173000
DTSTAMP:20260422T184403
CREATED:20250815T161558Z
LAST-MODIFIED:20250815T161558Z
UID:10000253-1759249800-1759253400@whitleychamber.org
SUMMARY:Teens Hangout at Peabody Public Library
DESCRIPTION:Come hang out with Emily as we play Name That Tune! You’ll listen to a snippet of a song and have to figure out the title of the track before your fellow teens! \nAges 12-18. FREE to attend. \nPeabody Public Library
URL:https://whitleychamber.org/event/teens-hangout-at-peabody-public-library/
END:VEVENT
BEGIN:VEVENT
DTSTART;TZID=America/Indiana/Indianapolis:20251002T103000
DTEND;TZID=America/Indiana/Indianapolis:20251002T110000
DTSTAMP:20260422T184403
CREATED:20250908T164232Z
LAST-MODIFIED:20250908T164232Z
UID:10000314-1759401000-1759402800@whitleychamber.org
SUMMARY:Toddler Storytime at Peabody Public Library
DESCRIPTION:For ages 0-5. Be sure to visit peabody.librarymarket.com to see this week’s story time reading!
URL:https://whitleychamber.org/event/toddler-storytime-at-peabody-public-library/2025-10-02/
END:VEVENT
BEGIN:VEVENT
DTSTART;TZID=America/Indiana/Indianapolis:20251003T080000
DTEND;TZID=America/Indiana/Indianapolis:20251003T100000
DTSTAMP:20260422T184403
CREATED:20250109T143948Z
LAST-MODIFIED:20250109T143948Z
UID:10000146-1759478400-1759485600@whitleychamber.org
SUMMARY:Cafes & Conversations - Hosted by the Whitley County Chamber
DESCRIPTION:Kick off your month with great coffee and even better company at Cafes & Collaborations! This laid-back networking event happens on the first Friday of every month\, giving you the chance to connect with other local professionals\, swap ideas\, and build relationships in a relaxed setting. \n\n\nEach month\, we’ll meet at a local bakery or coffee shop to support our community and keep things fresh — so you’ll always have a new spot to explore and enjoy!\n\nWhen: First Friday of every month starting at 8amWhere: This month\, we’re meeting at Ozaras (105 N Main Street in Columbia City)Cost: No cost to attend. Just the cost of your coffee/breakfast!\n\n\nNo need to stress — just bring your business cards\, grab a coffee\, and get ready to chat. See you there!
URL:https://whitleychamber.org/event/cafes-conversations-hosted-by-the-whitley-county-chamber-2/2025-10-03/
END:VEVENT
BEGIN:VEVENT
DTSTART;TZID=America/Indiana/Indianapolis:20251004T120000
DTEND;TZID=America/Indiana/Indianapolis:20251004T150000
DTSTAMP:20260422T184403
CREATED:20250908T172731Z
LAST-MODIFIED:20250908T172731Z
UID:10000429-1759579200-1759590000@whitleychamber.org
SUMMARY:Self Defense Workshop w/ Domestic Violence Taskforce
DESCRIPTION:Come out to the Safe Bodies\, Safe Communities Self Defense Workshop. Whitley County Domestic Violence Taskforce will be hosting activities for adults and children alike. \nAdult Activities:\n-Effective self-defense strategies for real-life situations\n-How to improve awareness and avoid danger\n-Understanding domestic violence\n-De-escalation strategies and conflict resolution \nChildren Activities:\n-Ages 7-14 are welcome\n-Interactive activities related to personal safety\n-Peace Storytime\n-Understanding body sensory processing. \nPeabody Public Library\, FREE to attend.
URL:https://whitleychamber.org/event/self-defense-workshop-w-domestic-violence-taskforce/
END:VEVENT
BEGIN:VEVENT
DTSTART;TZID=America/Indiana/Indianapolis:20251006T130000
DTEND;TZID=America/Indiana/Indianapolis:20251006T140000
DTSTAMP:20260422T184403
CREATED:20250908T164539Z
LAST-MODIFIED:20250908T164539Z
UID:10000372-1759755600-1759759200@whitleychamber.org
SUMMARY:Homeschool Happenings at Peabody Public Library
DESCRIPTION:For children ages 6-11. FREE to attend!\nEach week has a different focus\, so be sure to visit peabody.librarymarket.com to see what’s in store for this week!
URL:https://whitleychamber.org/event/homeschool-happenings-at-peabody-public-library/2025-10-06/
END:VEVENT
BEGIN:VEVENT
DTSTART;TZID=America/Indiana/Indianapolis:20251007T163000
DTEND;TZID=America/Indiana/Indianapolis:20251007T173000
DTSTAMP:20260422T184403
CREATED:20250908T164001Z
LAST-MODIFIED:20250908T164001Z
UID:10000257-1759854600-1759858200@whitleychamber.org
SUMMARY:Teen Tuesdays at Peabody Public Library
DESCRIPTION:For ages 12-18. Each week offers a different focus\, visit peabody.librarymarket.com to see this week’s activity!
URL:https://whitleychamber.org/event/teen-tuesdays-at-peabody-public-library/2025-10-07/
END:VEVENT
BEGIN:VEVENT
DTSTART;TZID=America/Indiana/Indianapolis:20251009T103000
DTEND;TZID=America/Indiana/Indianapolis:20251009T110000
DTSTAMP:20260422T184403
CREATED:20250908T164232Z
LAST-MODIFIED:20250908T164232Z
UID:10000315-1760005800-1760007600@whitleychamber.org
SUMMARY:Toddler Storytime at Peabody Public Library
DESCRIPTION:For ages 0-5. Be sure to visit peabody.librarymarket.com to see this week’s story time reading!
URL:https://whitleychamber.org/event/toddler-storytime-at-peabody-public-library/2025-10-09/
END:VEVENT
BEGIN:VEVENT
DTSTART;TZID=America/Indiana/Indianapolis:20251009T163000
DTEND;TZID=America/Indiana/Indianapolis:20251009T180000
DTSTAMP:20260422T184403
CREATED:20250909T211156Z
LAST-MODIFIED:20250909T211156Z
UID:10000444-1760027400-1760032800@whitleychamber.org
SUMMARY:"I Survived" Book Club at Peabody Public Library
DESCRIPTION:Celebrate the “I Survived” book series by Lauren Tarshis with this monthly book club! Each session will focus on a specific book in the series where we will talk about the time period and do a fun experiment or activity. Then go home with a copy to read and then discuss at the next session. This month’s title is “I Survived the Attack of the Grizzles\, 1967.” \nAges 6 to 11 with parent or guardian. FREE to attend.\nRegister: https://peabody.librarymarket.com/event/i-survived-book-club-22296 \nPeabody Public Library\, 1160 E SR 205\, Columbia City\, IN 46725
URL:https://whitleychamber.org/event/i-survived-book-club-at-peabody-public-library/
END:VEVENT
BEGIN:VEVENT
DTSTART;TZID=America/Indiana/Indianapolis:20251011T110000
DTEND;TZID=America/Indiana/Indianapolis:20251011T120000
DTSTAMP:20260422T184403
CREATED:20250908T172817Z
LAST-MODIFIED:20250908T172817Z
UID:10000430-1760180400-1760184000@whitleychamber.org
SUMMARY:Creepy Crawly Indiana Wild at Peabody Public Library
DESCRIPTION:Meet some creepy crawly animals with Indiana Wild! Indiana Wild celebrates positive human-animal cultural connections through conservation\, education\, and exotic animal rehoming/rescue. \nRegister: https://peabody.librarymarket.com/event/creepy-crawly-indiana-wild-23525
URL:https://whitleychamber.org/event/creepy-crawly-indiana-wild-at-peabody-public-library/
END:VEVENT
BEGIN:VEVENT
DTSTART;TZID=America/Indiana/Indianapolis:20251011T140000
DTEND;TZID=America/Indiana/Indianapolis:20251011T160000
DTSTAMP:20260422T184403
CREATED:20250909T210203Z
LAST-MODIFIED:20250909T210203Z
UID:10000432-1760191200-1760198400@whitleychamber.org
SUMMARY:Poe Slam Poetry at Peabody Public Library
DESCRIPTION:In this Poetastic event\, we are taking center stage to read aloud some of Edgar Allan Poe’s famous poems. Each reader will be given the chance to dress for the occasion as their best Poe impersonator\, read their choice within the five minute time frame\, and potentially win our Poe Prize! Or stay bathed in the shadows as part of the audience and vote for your favorite Poe at the end of the readings! \nAges 16+\, FREE to attend\, but register here: https://peabody.librarymarket.com/event/poe-poetry-draft-23570
URL:https://whitleychamber.org/event/poe-slam-poetry-at-peabody-public-library/
END:VEVENT
BEGIN:VEVENT
DTSTART;TZID=America/Indiana/Indianapolis:20251011T173000
DTEND;TZID=America/Indiana/Indianapolis:20251011T230000
DTSTAMP:20260422T184403
CREATED:20250830T205629Z
LAST-MODIFIED:20250830T205629Z
UID:10000256-1760203800-1760223600@whitleychamber.org
SUMMARY:Whitley County Pride Gayla
DESCRIPTION:Join us for an unforgettable evening as we celebrate Whitley County Pride’s 2nd Anniversary at our annual Gayla! \nThis special night is all about community\, celebration\, and honoring how far we’ve come together. \nYour ticket includes:\n🍽️ A delicious dinner\n🍸 One drink ticket\n🎤 An inspiring guest speaker\n🏆 Community awards\n💃 And a show-stopping drag performance to cap off the night! \nDress to impress and come ready to celebrate in style. This is our biggest event of the year — you won’t want to miss it! \nCocktail Hour- 5:30pm\nDinner: 6:30pm\nAwards: 7:30\nGuest Speaker: TBA\nDrag Show: TBA \nSemi-formal attire optional!\n113 S. State Street South Whitley\, IN \nPurchase your ticket here.
URL:https://whitleychamber.org/event/whitley-county-pride-gayla/
END:VEVENT
BEGIN:VEVENT
DTSTART;TZID=America/Indiana/Indianapolis:20251013T130000
DTEND;TZID=America/Indiana/Indianapolis:20251013T140000
DTSTAMP:20260422T184403
CREATED:20250908T164539Z
LAST-MODIFIED:20250908T164539Z
UID:10000373-1760360400-1760364000@whitleychamber.org
SUMMARY:Homeschool Happenings at Peabody Public Library
DESCRIPTION:For children ages 6-11. FREE to attend!\nEach week has a different focus\, so be sure to visit peabody.librarymarket.com to see what’s in store for this week!
URL:https://whitleychamber.org/event/homeschool-happenings-at-peabody-public-library/2025-10-13/
END:VEVENT
BEGIN:VEVENT
DTSTART;TZID=America/Indiana/Indianapolis:20251014T163000
DTEND;TZID=America/Indiana/Indianapolis:20251014T173000
DTSTAMP:20260422T184403
CREATED:20250908T164001Z
LAST-MODIFIED:20250908T164001Z
UID:10000258-1760459400-1760463000@whitleychamber.org
SUMMARY:Teen Tuesdays at Peabody Public Library
DESCRIPTION:For ages 12-18. Each week offers a different focus\, visit peabody.librarymarket.com to see this week’s activity!
URL:https://whitleychamber.org/event/teen-tuesdays-at-peabody-public-library/2025-10-14/
END:VEVENT
BEGIN:VEVENT
DTSTART;TZID=America/Indiana/Indianapolis:20251014T180000
DTEND;TZID=America/Indiana/Indianapolis:20251014T190000
DTSTAMP:20260422T184403
CREATED:20250909T210344Z
LAST-MODIFIED:20250909T210344Z
UID:10000434-1760464800-1760468400@whitleychamber.org
SUMMARY:Witch's Bell Craft at Peabody Public Library
DESCRIPTION:Ages 18+ \nCome out this spooky season and make a Witch’s Bell Wreath! Witch bells\, typically hung on doorknobs\, near entrances\, or in trees\, are a type of protective charm with origins in folklore and folk magic. They are believed to ward off negative energy\, evil spirits\, and even the Devil\, while also bringing good luck and attracting positive entities like fairies. The sound of bells has long been associated with warding off evil\, and witch bells are a modern manifestation of this belief. Come out and make your own protective charm for your house! \n\n\n\nPeabody Public Library\, 1160 E SR 205\, Columbia City\, IN 46725 \nRegister: https://peabody.librarymarket.com/event/witchs-bell-craft-23517
URL:https://whitleychamber.org/event/witchs-bell-craft-at-peabody-public-library/
END:VEVENT
BEGIN:VEVENT
DTSTART;TZID=America/Indiana/Indianapolis:20251015T180000
DTEND;TZID=America/Indiana/Indianapolis:20251015T200000
DTSTAMP:20260422T184403
CREATED:20250909T210426Z
LAST-MODIFIED:20250909T210426Z
UID:10000435-1760551200-1760558400@whitleychamber.org
SUMMARY:Family Game Night at Peabody Public Library
DESCRIPTION:All ages welcome! Bring out the entire family for this awesome game night! We will have various board games laid out for your family to enjoy and play. \nPeabody Public Library\, 1160 E SR 205\, Columbia City\, IN 46725 \nFREE to attend!
URL:https://whitleychamber.org/event/family-game-night-at-peabody-public-library-2/
END:VEVENT
BEGIN:VEVENT
DTSTART;TZID=America/Indiana/Indianapolis:20251016T103000
DTEND;TZID=America/Indiana/Indianapolis:20251016T110000
DTSTAMP:20260422T184403
CREATED:20250908T164232Z
LAST-MODIFIED:20250908T164232Z
UID:10000316-1760610600-1760612400@whitleychamber.org
SUMMARY:Toddler Storytime at Peabody Public Library
DESCRIPTION:For ages 0-5. Be sure to visit peabody.librarymarket.com to see this week’s story time reading!
URL:https://whitleychamber.org/event/toddler-storytime-at-peabody-public-library/2025-10-16/
END:VEVENT
BEGIN:VEVENT
DTSTART;TZID=America/Indiana/Indianapolis:20251017T163000
DTEND;TZID=America/Indiana/Indianapolis:20251017T173000
DTSTAMP:20260422T184403
CREATED:20250909T210256Z
LAST-MODIFIED:20250909T210256Z
UID:10000433-1760718600-1760722200@whitleychamber.org
SUMMARY:Career Spotlight at Peabody Public Library
DESCRIPTION:This is a special storytime featuring community helpers: Doctor Warren Travis and Dr. Allison Bergdoll. Dr. Bergdoll and Dr. Travis are both local orthodontists at Columbia City Orthodontics. They will read a book\, share in an activity to better understand what an orthodontist does\, then there will be time for questions for them both! \n\n\n\nAges 6 to 11 with parent or guardian\n\n\n\n\n\n\n\n\n\n\n\n\n\nRegister: https://peabody.librarymarket.com/event/career-spotlight-22301
URL:https://whitleychamber.org/event/career-spotlight-at-peabody-public-library/
END:VEVENT
BEGIN:VEVENT
DTSTART;TZID=America/Indiana/Indianapolis:20251018T100000
DTEND;TZID=America/Indiana/Indianapolis:20251018T140000
DTSTAMP:20260422T184403
CREATED:20251001T120420Z
LAST-MODIFIED:20251001T120617Z
UID:10000449-1760781600-1760796000@whitleychamber.org
SUMMARY:Country Roads Coffee HOLIDAY OPEN HOUSE
DESCRIPTION:Sat. Oct. 18 (10-2) MARK YOUR CALENDARS! ➡️Check out the NEW DATE for OUR annual OPEN HOUSE!! 🔸️Sat. OCTOBER 18 (10-2)!! (we’re expecting our 1st💗 granddaughter in Nov. so moving it to OCTOBER just makes sense.) \n✨ The holiday season always kicks off with the Country Roads Coffee Open House! ✨ Just a few wks earlier this year…..with some exciting changes!!! 🔹️Join us on Saturday\, October 18 from (10 AM – 2 PM) for a time full of local cheer. ☕🎄🎃🍁🍂🧋 \n✅ Shop local vendors (candles\, room sprays\, soap & body products\, tumblers\, bows\, hand printed attire & boutique clothing\, coffee & more.\n✅️Perfect for your early Christmas 🎄 shopping.\n✅ Tour the roastery and see where the magic happens\n✅ Sip on your favorite brews with friends and more!!\n✅️MORE INFO. TO COME!! Bring your crew and celebrate the start of the season with us at Country Roads Coffee 10/18/25! 🎁✨ \nLIKE SHARE TAG YOUR FRIENDS www.countryroadscoffee.com
URL:https://whitleychamber.org/event/country-roads-coffee-holiday-open-house/
END:VEVENT
END:VCALENDAR