BEGIN:VCALENDAR
VERSION:2.0
PRODID:-//Whitley County Chamber of Commerce &amp; Visitors Center - ECPv6.13.1//NONSGML v1.0//EN
CALSCALE:GREGORIAN
METHOD:PUBLISH
X-ORIGINAL-URL:https://whitleychamber.org
X-WR-CALDESC:Events for Whitley County Chamber of Commerce &amp; Visitors Center
REFRESH-INTERVAL;VALUE=DURATION:PT1H
X-Robots-Tag:noindex
X-PUBLISHED-TTL:PT1H
BEGIN:VTIMEZONE
TZID:America/Indiana/Indianapolis
BEGIN:DAYLIGHT
TZOFFSETFROM:-0500
TZOFFSETTO:-0400
TZNAME:EDT
DTSTART:20250309T070000
END:DAYLIGHT
BEGIN:STANDARD
TZOFFSETFROM:-0400
TZOFFSETTO:-0500
TZNAME:EST
DTSTART:20251102T060000
END:STANDARD
END:VTIMEZONE
BEGIN:VEVENT
DTSTART;TZID=America/Indiana/Indianapolis:20251018T140000
DTEND;TZID=America/Indiana/Indianapolis:20251018T190000
DTSTAMP:20260422T184440
CREATED:20250909T212336Z
LAST-MODIFIED:20250909T212336Z
UID:10000446-1760796000-1760814000@whitleychamber.org
SUMMARY:Kelly's Whitley County Skeleton Festival
DESCRIPTION:Kelly’s Whitley County Skeleton Festival 2025📍 Historic Downtown Columbia City📅 Saturday\, October 18 | 2:00 PM – 7:00 PM \nCelebrate fall fun at the annual Skeleton Festival! Enjoy family-friendly activities including a skeleton decorating contest\, chili cook-off\, golf cart decorating\, vendor booths\, and a lively costume contest at 5:00 PM. Prizes will be awarded for best costumes and creative entries. \nVendors will be set up with treats\, decorations\, and fun for all ages. Bring the family downtown for an afternoon filled with Halloween spirit\, food\, and community fun! \nFor registration details or to participate\, contact Michelle Grable at 260-241-0247.
URL:https://whitleychamber.org/event/kellys-whitley-county-skeleton-festival/
END:VEVENT
BEGIN:VEVENT
DTSTART;TZID=America/Indiana/Indianapolis:20251020T130000
DTEND;TZID=America/Indiana/Indianapolis:20251020T140000
DTSTAMP:20260422T184440
CREATED:20250908T164539Z
LAST-MODIFIED:20250908T164539Z
UID:10000374-1760965200-1760968800@whitleychamber.org
SUMMARY:Homeschool Happenings at Peabody Public Library
DESCRIPTION:For children ages 6-11. FREE to attend!\nEach week has a different focus\, so be sure to visit peabody.librarymarket.com to see what’s in store for this week!
URL:https://whitleychamber.org/event/homeschool-happenings-at-peabody-public-library/2025-10-20/
END:VEVENT
BEGIN:VEVENT
DTSTART;TZID=America/Indiana/Indianapolis:20251020T180000
DTEND;TZID=America/Indiana/Indianapolis:20251020T190000
DTSTAMP:20260422T184440
CREATED:20250909T210637Z
LAST-MODIFIED:20250909T210637Z
UID:10000438-1760983200-1760986800@whitleychamber.org
SUMMARY:Otherwordly Book Club at Peabody Public Library
DESCRIPTION:Ages 18+\, FREE to attend! \nIn the beam this month: “So Thirsty” By: Rachel Harrison Imagine going on a weekend vacation in the Finger Lakes for your birthday with your best friend\, ironically planned by your cheating husband\, just to end up being turned into a vampire by a group of people you just met! This novel is about two friends navigating the world in their sharp and shinny new positions. It’s a story about how life is ever changing\, finding love\, and the beauty of friendship. What more could you ask for? Sounds like a good book we\, and the aliens\, can sink our teeth into. \nPeabody Public Library\, 1160 E SR 205\, Columbia City\, IN 46725
URL:https://whitleychamber.org/event/otherwordly-book-club-at-peabody-public-library-2/
END:VEVENT
BEGIN:VEVENT
DTSTART;TZID=America/Indiana/Indianapolis:20251021T163000
DTEND;TZID=America/Indiana/Indianapolis:20251021T173000
DTSTAMP:20260422T184440
CREATED:20250908T164001Z
LAST-MODIFIED:20250908T164001Z
UID:10000259-1761064200-1761067800@whitleychamber.org
SUMMARY:Teen Tuesdays at Peabody Public Library
DESCRIPTION:For ages 12-18. Each week offers a different focus\, visit peabody.librarymarket.com to see this week’s activity!
URL:https://whitleychamber.org/event/teen-tuesdays-at-peabody-public-library/2025-10-21/
END:VEVENT
BEGIN:VEVENT
DTSTART;TZID=America/Indiana/Indianapolis:20251023T100000
DTEND;TZID=America/Indiana/Indianapolis:20251023T110000
DTSTAMP:20260422T184440
CREATED:20250909T210512Z
LAST-MODIFIED:20250909T210512Z
UID:10000436-1761213600-1761217200@whitleychamber.org
SUMMARY:Coffee & Cadavers Book Club at Peabody Public Library
DESCRIPTION:Ages 18+\, FREE to attend. \nOur victim will be Shari Lapena’s ‘A Stranger in the House”. Come out for good discussion\, and good company. Karen and Tom Krupp are happy—they’ve got a lovely home in upstate New York\, they’re practically newlyweds\, and they have no kids to interrupt their comfortable life together. But one day\, Tom returns home to find Karen has vanished—her car’s gone and it seems she left in a rush. She even left her purse—complete with phone and ID—behind. There’s a knock on the door—the police are there to take Tom to the hospital where his wife has been admitted. She had a car accident\, and lost control as she sped through the worst part of town. The accident has left Karen with a concussion and a few scrapes. Still\, she’s mostly okay—except that she can’t remember what she was doing or where she was when she crashed. The cops think her memory loss is highly convenient\, and they suspect she was up to no good. Karen returns home with Tom\, determined to heal and move on with her life. Then she realizes something’s been moved. Something’s not quite right. Someone’s been in her house. And the police won’t stop asking questions. Because in this house\, everyone’s a stranger. Everyone has something they’d rather keep hidden. Something they might even kill to keep quiet. \nPeabody Public Library\, 1160 E SR 205\, Columbia City\, IN 46725
URL:https://whitleychamber.org/event/coffee-cadavers-book-club-at-peabody-public-library/
END:VEVENT
BEGIN:VEVENT
DTSTART;TZID=America/Indiana/Indianapolis:20251023T103000
DTEND;TZID=America/Indiana/Indianapolis:20251023T110000
DTSTAMP:20260422T184440
CREATED:20250908T164232Z
LAST-MODIFIED:20250908T164232Z
UID:10000317-1761215400-1761217200@whitleychamber.org
SUMMARY:Toddler Storytime at Peabody Public Library
DESCRIPTION:For ages 0-5. Be sure to visit peabody.librarymarket.com to see this week’s story time reading!
URL:https://whitleychamber.org/event/toddler-storytime-at-peabody-public-library/2025-10-23/
END:VEVENT
BEGIN:VEVENT
DTSTART;TZID=America/Indiana/Indianapolis:20251023T173000
DTEND;TZID=America/Indiana/Indianapolis:20251023T183000
DTSTAMP:20260422T184440
CREATED:20250909T210813Z
LAST-MODIFIED:20250909T210813Z
UID:10000440-1761240600-1761244200@whitleychamber.org
SUMMARY:Amateur Crafts - Macrame Gnomes at Peabody Public Library
DESCRIPTION:Ages 18+\, FREE to attend. Register here: https://peabody.librarymarket.com/event/macrame-gnomes-23027 \nWarm up with some cute crafting fun! \nPeabody Public Library\, 1160 E SR 205\, Columbia City\, IN 46725
URL:https://whitleychamber.org/event/amateur-crafts-macrame-gnomes-at-peabody-public-library/
END:VEVENT
BEGIN:VEVENT
DTSTART;TZID=America/Indiana/Indianapolis:20251024T100000
DTEND;TZID=America/Indiana/Indianapolis:20251024T120000
DTSTAMP:20260422T184440
CREATED:20250909T210550Z
LAST-MODIFIED:20250909T210550Z
UID:10000437-1761300000-1761307200@whitleychamber.org
SUMMARY:Computer Mobile Lab at Peabody Public Library
DESCRIPTION:All ages welcome! Bring your questions\, devices\, and cords to the computer classroom and lets have fun talking computers and technology! \nPeabody Public Library\, 1160 E SR 205\, Columbia City\, IN 46725
URL:https://whitleychamber.org/event/computer-mobile-lab-at-peabody-public-library/
END:VEVENT
BEGIN:VEVENT
DTSTART;TZID=America/Indiana/Indianapolis:20251024T163000
DTEND;TZID=America/Indiana/Indianapolis:20251024T180000
DTSTAMP:20260422T184440
CREATED:20250909T210725Z
LAST-MODIFIED:20250909T210725Z
UID:10000439-1761323400-1761328800@whitleychamber.org
SUMMARY:Tales with Tails at Peabody Public Library
DESCRIPTION:At tales with tails we will have a service dog at the library that you can sit with and read to! You can probably even sneaks in a few pets as well! \nAges 6 to 11 with parent or guardian. FREE to attend. \nPeabody Public Library\, 1160 E SR 205\, Columbia City\, IN 46725
URL:https://whitleychamber.org/event/tales-with-tails-at-peabody-public-library-3/
END:VEVENT
BEGIN:VEVENT
DTSTART;TZID=America/Indiana/Indianapolis:20251027T130000
DTEND;TZID=America/Indiana/Indianapolis:20251027T140000
DTSTAMP:20260422T184440
CREATED:20250908T164539Z
LAST-MODIFIED:20250908T164539Z
UID:10000375-1761570000-1761573600@whitleychamber.org
SUMMARY:Homeschool Happenings at Peabody Public Library
DESCRIPTION:For children ages 6-11. FREE to attend!\nEach week has a different focus\, so be sure to visit peabody.librarymarket.com to see what’s in store for this week!
URL:https://whitleychamber.org/event/homeschool-happenings-at-peabody-public-library/2025-10-27/
END:VEVENT
BEGIN:VEVENT
DTSTART;TZID=America/Indiana/Indianapolis:20251028T163000
DTEND;TZID=America/Indiana/Indianapolis:20251028T173000
DTSTAMP:20260422T184440
CREATED:20250908T164001Z
LAST-MODIFIED:20250908T164001Z
UID:10000260-1761669000-1761672600@whitleychamber.org
SUMMARY:Teen Tuesdays at Peabody Public Library
DESCRIPTION:For ages 12-18. Each week offers a different focus\, visit peabody.librarymarket.com to see this week’s activity!
URL:https://whitleychamber.org/event/teen-tuesdays-at-peabody-public-library/2025-10-28/
END:VEVENT
BEGIN:VEVENT
DTSTART;TZID=America/Indiana/Indianapolis:20251028T180000
DTEND;TZID=America/Indiana/Indianapolis:20251028T210000
DTSTAMP:20260422T184440
CREATED:20250625T185103Z
LAST-MODIFIED:20250625T185103Z
UID:10000219-1761674400-1761685200@whitleychamber.org
SUMMARY:Taste & Tunes Fundraiser
DESCRIPTION:Come enjoy a delicious meal and outstanding music by Hubie Ashcraft & Travis Gow while helping to support the WCCOA.\nThe Woodlands – 710 N Opportunity Dr\, Columbia City\nTickets must be purchased in advance by 10/17/25 at the Woodlands.. $35\nMust be 21+ to participate.
URL:https://whitleychamber.org/event/taste-tunes-fundraiser/
END:VEVENT
BEGIN:VEVENT
DTSTART;TZID=America/Indiana/Indianapolis:20251029T180000
DTEND;TZID=America/Indiana/Indianapolis:20251029T200000
DTSTAMP:20260422T184440
CREATED:20250909T210910Z
LAST-MODIFIED:20250909T210910Z
UID:10000441-1761760800-1761768000@whitleychamber.org
SUMMARY:Homespun Workings - Rustic Block Pumpkins at Peabody Public Library
DESCRIPTION:Ages 18+. FREE to attend. \nEach month we explore different types of textiles as we create a homespun craft! This month join us as we make “Rustic Block Pumpkins”! We will be using wooden blocks\, hot glue\, twine\, paint\, and beads to create this easy craft to decorate your mantle with! \n\n\n\nRegister: https://peabody.librarymarket.com/event/homespun-workings-19312\n\n\n\n\n\n\nPeabody Public Library\, 1160 E SR 205\, Columbia City\, IN 46725
URL:https://whitleychamber.org/event/homespun-workings-rustic-block-pumpkins-at-peabody-public-library/
END:VEVENT
BEGIN:VEVENT
DTSTART;TZID=America/Indiana/Indianapolis:20251030T103000
DTEND;TZID=America/Indiana/Indianapolis:20251030T110000
DTSTAMP:20260422T184440
CREATED:20250908T164232Z
LAST-MODIFIED:20250908T164232Z
UID:10000318-1761820200-1761822000@whitleychamber.org
SUMMARY:Toddler Storytime at Peabody Public Library
DESCRIPTION:For ages 0-5. Be sure to visit peabody.librarymarket.com to see this week’s story time reading!
URL:https://whitleychamber.org/event/toddler-storytime-at-peabody-public-library/2025-10-30/
END:VEVENT
BEGIN:VEVENT
DTSTART;TZID=America/Indiana/Indianapolis:20251031T150000
DTEND;TZID=America/Indiana/Indianapolis:20251031T170000
DTSTAMP:20260422T184440
CREATED:20250909T212220Z
LAST-MODIFIED:20250909T212220Z
UID:10000445-1761922800-1761930000@whitleychamber.org
SUMMARY:Lil Pumpkins Trick or Treating
DESCRIPTION:Downtown Columbia City will be spooktacular on Friday Oct 31\, 3-5pm – Right before the City kicks off their trick or treating!\nAll businesses are welcome to join\, come set up a table around the square & hand out goodies.No registration needed\, just join in on the fun and support our wonderful community.
URL:https://whitleychamber.org/event/lil-pumpkins-trick-or-treating/
END:VEVENT
BEGIN:VEVENT
DTSTART;TZID=America/Indiana/Indianapolis:20251031T163000
DTEND;TZID=America/Indiana/Indianapolis:20251031T183000
DTSTAMP:20260422T184440
CREATED:20250909T210958Z
LAST-MODIFIED:20250909T210958Z
UID:10000442-1761928200-1761935400@whitleychamber.org
SUMMARY:Halloween Carnival Games at Peabody Public Library
DESCRIPTION:Join us right before you go trick-or-treating in town for some fun Halloween Carnival Games! We’ll have monster mini golf\, ring toss\, pin the eye on the monster\, and more! Be sure to wear your costume and bring the whole family! \nAll Ages Welcome. FREE to attend. \nPeabody Public Library\, 1160 E SR 205\, Columbia City\, IN 46725
URL:https://whitleychamber.org/event/halloween-carnival-games-at-peabody-public-library/
END:VEVENT
BEGIN:VEVENT
DTSTART;TZID=America/Indiana/Indianapolis:20251031T200000
DTEND;TZID=America/Indiana/Indianapolis:20251031T233000
DTSTAMP:20260422T184440
CREATED:20250909T211058Z
LAST-MODIFIED:20250909T211058Z
UID:10000443-1761940800-1761953400@whitleychamber.org
SUMMARY:Halloween Hunt with ESP
DESCRIPTION:Peabody Public Library is teaming up once again with ESP\, a local paranormal exploration group\, to do another fun ghost hunt on the library premises! Join us if you dare for this spooky Halloween themed hunt! Patrons are encouraged to dress up in costumes for the occasion as there will be goodies and ghosts galore! *If you’re 14-17\, you’ll have to have a parent/guardian register as well. \nAges 14+ with parent or guardian \nPeabody Public Library\, 1160 E SR 205\, Columbia City\, IN 46725 \nRegister: https://peabody.librarymarket.com/event/peabody-paranormal-ghost-hunt-20879
URL:https://whitleychamber.org/event/halloween-hunt-with-esp/
END:VEVENT
BEGIN:VEVENT
DTSTART;TZID=America/Indiana/Indianapolis:20251103T130000
DTEND;TZID=America/Indiana/Indianapolis:20251103T140000
DTSTAMP:20260422T184440
CREATED:20250908T164539Z
LAST-MODIFIED:20250908T164539Z
UID:10000376-1762174800-1762178400@whitleychamber.org
SUMMARY:Homeschool Happenings at Peabody Public Library
DESCRIPTION:For children ages 6-11. FREE to attend!\nEach week has a different focus\, so be sure to visit peabody.librarymarket.com to see what’s in store for this week!
URL:https://whitleychamber.org/event/homeschool-happenings-at-peabody-public-library/2025-11-03/
END:VEVENT
BEGIN:VEVENT
DTSTART;TZID=America/Indiana/Indianapolis:20251104T163000
DTEND;TZID=America/Indiana/Indianapolis:20251104T173000
DTSTAMP:20260422T184440
CREATED:20250908T164001Z
LAST-MODIFIED:20250908T164001Z
UID:10000261-1762273800-1762277400@whitleychamber.org
SUMMARY:Teen Tuesdays at Peabody Public Library
DESCRIPTION:For ages 12-18. Each week offers a different focus\, visit peabody.librarymarket.com to see this week’s activity!
URL:https://whitleychamber.org/event/teen-tuesdays-at-peabody-public-library/2025-11-04/
END:VEVENT
BEGIN:VEVENT
DTSTART;TZID=America/Indiana/Indianapolis:20251106T090000
DTEND;TZID=America/Indiana/Indianapolis:20251106T180000
DTSTAMP:20260422T184440
CREATED:20251021T143919Z
LAST-MODIFIED:20251021T143919Z
UID:10000450-1762419600-1762452000@whitleychamber.org
SUMMARY:Friends of the Library Book Sale
DESCRIPTION:Dive into our treasure trove of stories\, knowledge\, and inspiration. From timeless classics to contemporary bestsellers\, we have something for every reader. Don’t miss this chance to fill your shelves and fuel your imagination. \nPeabody Public Library 1160 E SR 205\, Columbia City\, IN 46725
URL:https://whitleychamber.org/event/friends-of-the-library-book-sale-3/
END:VEVENT
BEGIN:VEVENT
DTSTART;TZID=America/Indiana/Indianapolis:20251106T103000
DTEND;TZID=America/Indiana/Indianapolis:20251106T110000
DTSTAMP:20260422T184440
CREATED:20250908T164232Z
LAST-MODIFIED:20250908T164232Z
UID:10000319-1762425000-1762426800@whitleychamber.org
SUMMARY:Toddler Storytime at Peabody Public Library
DESCRIPTION:For ages 0-5. Be sure to visit peabody.librarymarket.com to see this week’s story time reading!
URL:https://whitleychamber.org/event/toddler-storytime-at-peabody-public-library/2025-11-06/
END:VEVENT
BEGIN:VEVENT
DTSTART;TZID=America/Indiana/Indianapolis:20251107T080000
DTEND;TZID=America/Indiana/Indianapolis:20251107T100000
DTSTAMP:20260422T184440
CREATED:20250109T143948Z
LAST-MODIFIED:20250109T143948Z
UID:10000147-1762502400-1762509600@whitleychamber.org
SUMMARY:Cafes & Conversations - Hosted by the Whitley County Chamber
DESCRIPTION:Kick off your month with great coffee and even better company at Cafes & Collaborations! This laid-back networking event happens on the first Friday of every month\, giving you the chance to connect with other local professionals\, swap ideas\, and build relationships in a relaxed setting. \n\n\nEach month\, we’ll meet at a local bakery or coffee shop to support our community and keep things fresh — so you’ll always have a new spot to explore and enjoy!\n\nWhen: First Friday of every month starting at 8amWhere: This month\, we’re meeting at Ozaras (105 N Main Street in Columbia City)Cost: No cost to attend. Just the cost of your coffee/breakfast!\n\n\nNo need to stress — just bring your business cards\, grab a coffee\, and get ready to chat. See you there!
URL:https://whitleychamber.org/event/cafes-conversations-hosted-by-the-whitley-county-chamber-2/2025-11-07/
END:VEVENT
BEGIN:VEVENT
DTSTART;TZID=America/Indiana/Indianapolis:20251107T103000
DTEND;TZID=America/Indiana/Indianapolis:20251107T123000
DTSTAMP:20260422T184440
CREATED:20251021T144013Z
LAST-MODIFIED:20251021T144013Z
UID:10000451-1762511400-1762518600@whitleychamber.org
SUMMARY:Project Ballet - Nutcracker
DESCRIPTION:Project Ballet from Fort Wayne will come present their performance of Nutcracker! \nPeabody Public Library 1160 E SR 205\, Columbia City\, IN 46725 \nRSVP here: https://peabody.librarymarket.com/event/project-ballet-nutcracker-23793
URL:https://whitleychamber.org/event/project-ballet-nutcracker/
END:VEVENT
BEGIN:VEVENT
DTSTART;TZID=America/Indiana/Indianapolis:20251110T130000
DTEND;TZID=America/Indiana/Indianapolis:20251110T140000
DTSTAMP:20260422T184440
CREATED:20250908T164539Z
LAST-MODIFIED:20250908T164539Z
UID:10000377-1762779600-1762783200@whitleychamber.org
SUMMARY:Homeschool Happenings at Peabody Public Library
DESCRIPTION:For children ages 6-11. FREE to attend!\nEach week has a different focus\, so be sure to visit peabody.librarymarket.com to see what’s in store for this week!
URL:https://whitleychamber.org/event/homeschool-happenings-at-peabody-public-library/2025-11-10/
END:VEVENT
BEGIN:VEVENT
DTSTART;TZID=America/Indiana/Indianapolis:20251111T163000
DTEND;TZID=America/Indiana/Indianapolis:20251111T173000
DTSTAMP:20260422T184440
CREATED:20250908T164001Z
LAST-MODIFIED:20250908T164001Z
UID:10000262-1762878600-1762882200@whitleychamber.org
SUMMARY:Teen Tuesdays at Peabody Public Library
DESCRIPTION:For ages 12-18. Each week offers a different focus\, visit peabody.librarymarket.com to see this week’s activity!
URL:https://whitleychamber.org/event/teen-tuesdays-at-peabody-public-library/2025-11-11/
END:VEVENT
BEGIN:VEVENT
DTSTART;TZID=America/Indiana/Indianapolis:20251113T103000
DTEND;TZID=America/Indiana/Indianapolis:20251113T110000
DTSTAMP:20260422T184440
CREATED:20250908T164232Z
LAST-MODIFIED:20250908T164232Z
UID:10000320-1763029800-1763031600@whitleychamber.org
SUMMARY:Toddler Storytime at Peabody Public Library
DESCRIPTION:For ages 0-5. Be sure to visit peabody.librarymarket.com to see this week’s story time reading!
URL:https://whitleychamber.org/event/toddler-storytime-at-peabody-public-library/2025-11-13/
END:VEVENT
BEGIN:VEVENT
DTSTART;TZID=America/Indiana/Indianapolis:20251117T080000
DTEND;TZID=America/Indiana/Indianapolis:20251117T190000
DTSTAMP:20260422T184440
CREATED:20251111T141922Z
LAST-MODIFIED:20251111T141922Z
UID:10000453-1763366400-1763406000@whitleychamber.org
SUMMARY:Shine for "We believe in YOU(th)" at Andy's Car Wash
DESCRIPTION:Shine for ‘We Believe in YOU(th)’! A portion of every wash at Andy’s Car Wash supports this campaign\, empowering and uplifting local youth. Together\, we can make a lasting impact in our community! \n255 Frontage Rd. Columbia City\, IN 46725\n11/17-11/21
URL:https://whitleychamber.org/event/shine-for-we-believe-in-youth-at-andys-car-wash/2025-11-17/
END:VEVENT
BEGIN:VEVENT
DTSTART;TZID=America/Indiana/Indianapolis:20251117T130000
DTEND;TZID=America/Indiana/Indianapolis:20251117T140000
DTSTAMP:20260422T184440
CREATED:20250908T164539Z
LAST-MODIFIED:20250908T164539Z
UID:10000378-1763384400-1763388000@whitleychamber.org
SUMMARY:Homeschool Happenings at Peabody Public Library
DESCRIPTION:For children ages 6-11. FREE to attend!\nEach week has a different focus\, so be sure to visit peabody.librarymarket.com to see what’s in store for this week!
URL:https://whitleychamber.org/event/homeschool-happenings-at-peabody-public-library/2025-11-17/
END:VEVENT
BEGIN:VEVENT
DTSTART;TZID=America/Indiana/Indianapolis:20251118T080000
DTEND;TZID=America/Indiana/Indianapolis:20251118T190000
DTSTAMP:20260422T184440
CREATED:20251111T141922Z
LAST-MODIFIED:20251111T141922Z
UID:10000454-1763452800-1763492400@whitleychamber.org
SUMMARY:Shine for "We believe in YOU(th)" at Andy's Car Wash
DESCRIPTION:Shine for ‘We Believe in YOU(th)’! A portion of every wash at Andy’s Car Wash supports this campaign\, empowering and uplifting local youth. Together\, we can make a lasting impact in our community! \n255 Frontage Rd. Columbia City\, IN 46725\n11/17-11/21
URL:https://whitleychamber.org/event/shine-for-we-believe-in-youth-at-andys-car-wash/2025-11-18/
END:VEVENT
BEGIN:VEVENT
DTSTART;TZID=America/Indiana/Indianapolis:20251118T163000
DTEND;TZID=America/Indiana/Indianapolis:20251118T173000
DTSTAMP:20260422T184440
CREATED:20250908T164001Z
LAST-MODIFIED:20250908T164001Z
UID:10000263-1763483400-1763487000@whitleychamber.org
SUMMARY:Teen Tuesdays at Peabody Public Library
DESCRIPTION:For ages 12-18. Each week offers a different focus\, visit peabody.librarymarket.com to see this week’s activity!
URL:https://whitleychamber.org/event/teen-tuesdays-at-peabody-public-library/2025-11-18/
END:VEVENT
END:VCALENDAR