BEGIN:VCALENDAR
VERSION:2.0
PRODID:-//Whitley County Chamber of Commerce &amp; Visitors Center - ECPv6.13.1//NONSGML v1.0//EN
CALSCALE:GREGORIAN
METHOD:PUBLISH
X-ORIGINAL-URL:https://whitleychamber.org
X-WR-CALDESC:Events for Whitley County Chamber of Commerce &amp; Visitors Center
REFRESH-INTERVAL;VALUE=DURATION:PT1H
X-Robots-Tag:noindex
X-PUBLISHED-TTL:PT1H
BEGIN:VTIMEZONE
TZID:America/Indiana/Indianapolis
BEGIN:DAYLIGHT
TZOFFSETFROM:-0500
TZOFFSETTO:-0400
TZNAME:EDT
DTSTART:20230312T070000
END:DAYLIGHT
BEGIN:STANDARD
TZOFFSETFROM:-0400
TZOFFSETTO:-0500
TZNAME:EST
DTSTART:20231105T060000
END:STANDARD
END:VTIMEZONE
BEGIN:VEVENT
DTSTART;TZID=America/Indiana/Indianapolis:20230920T110000
DTEND;TZID=America/Indiana/Indianapolis:20230920T130000
DTSTAMP:20260421T065820
CREATED:20230911T164226Z
LAST-MODIFIED:20230911T164226Z
UID:10000047-1695207600-1695214800@whitleychamber.org
SUMMARY:Community Cookout & Ribbon Cutting at The Waters of Columbia City
DESCRIPTION:
URL:https://whitleychamber.org/event/community-cookout-ribbon-cutting-at-the-waters-of-columbia-city/
END:VEVENT
BEGIN:VEVENT
DTSTART;TZID=America/Indiana/Indianapolis:20230921T090000
DTEND;TZID=America/Indiana/Indianapolis:20230921T093000
DTSTAMP:20260421T065820
CREATED:20230911T163657Z
LAST-MODIFIED:20230911T163657Z
UID:10000045-1695286800-1695288600@whitleychamber.org
SUMMARY:Oberlin Marketing Ribbon Cutting
DESCRIPTION:
URL:https://whitleychamber.org/event/oberlin-marketing-ribbon-cutting/
END:VEVENT
BEGIN:VEVENT
DTSTART;TZID=America/Indiana/Indianapolis:20230923T153000
DTEND;TZID=America/Indiana/Indianapolis:20230923T220000
DTSTAMP:20260421T065820
CREATED:20230911T164014Z
LAST-MODIFIED:20230911T164014Z
UID:10000046-1695483000-1695506400@whitleychamber.org
SUMMARY:Larwill Community Fish Fry
DESCRIPTION:  \nAny additional questions\, please contact Kim at kimkhome@yahoo.com
URL:https://whitleychamber.org/event/larwill-community-fish-fry/
END:VEVENT
BEGIN:VEVENT
DTSTART;VALUE=DATE:20230925
DTEND;VALUE=DATE:20230930
DTSTAMP:20260421T065820
CREATED:20230815T194127Z
LAST-MODIFIED:20230815T202611Z
UID:10000043-1695600000-1696031999@whitleychamber.org
SUMMARY:Second Annual Whitley County Senior Games 9/25 - 9/29
DESCRIPTION:  \n\nPlease register at Woodlands Senior Center. Registration forms are in their August Newsletter and will be available at the Woodlands Senior Health Fair on Sept 15th.\n$5 admission fee. Must be 50 years or older to participate.\nThis event is put on by Woodlands Senior Center and Indiana Physical Therapy
URL:https://whitleychamber.org/event/senior-games/
END:VEVENT
BEGIN:VEVENT
DTSTART;TZID=America/Indiana/Indianapolis:20230926T160000
DTEND;TZID=America/Indiana/Indianapolis:20230926T170000
DTSTAMP:20260421T065820
CREATED:20230925T131736Z
LAST-MODIFIED:20230925T133400Z
UID:10000049-1695744000-1695747600@whitleychamber.org
SUMMARY:Andy's at Woodlands Senior Center BINGO Night
DESCRIPTION:
URL:https://whitleychamber.org/event/andys-at-woodlands-senior-center-bingo-night/
END:VEVENT
BEGIN:VEVENT
DTSTART;VALUE=DATE:20230928
DTEND;VALUE=DATE:20231002
DTSTAMP:20260421T065820
CREATED:20230629T141520Z
LAST-MODIFIED:20230629T141520Z
UID:10000034-1695859200-1696204799@whitleychamber.org
SUMMARY:South Whitley Fall Festival
DESCRIPTION:Mark your calendars! More details to come!
URL:https://whitleychamber.org/event/south-whitley-fall-festival/
END:VEVENT
END:VCALENDAR