BEGIN:VCALENDAR
VERSION:2.0
PRODID:-//Whitley County Chamber of Commerce &amp; Visitors Center - ECPv6.13.1//NONSGML v1.0//EN
CALSCALE:GREGORIAN
METHOD:PUBLISH
X-ORIGINAL-URL:https://whitleychamber.org
X-WR-CALDESC:Events for Whitley County Chamber of Commerce &amp; Visitors Center
REFRESH-INTERVAL;VALUE=DURATION:PT1H
X-Robots-Tag:noindex
X-PUBLISHED-TTL:PT1H
BEGIN:VTIMEZONE
TZID:America/Indiana/Indianapolis
BEGIN:DAYLIGHT
TZOFFSETFROM:-0500
TZOFFSETTO:-0400
TZNAME:EDT
DTSTART:20230312T070000
END:DAYLIGHT
BEGIN:STANDARD
TZOFFSETFROM:-0400
TZOFFSETTO:-0500
TZNAME:EST
DTSTART:20231105T060000
END:STANDARD
END:VTIMEZONE
BEGIN:VEVENT
DTSTART;VALUE=DATE:20230928
DTEND;VALUE=DATE:20231002
DTSTAMP:20260421T092100
CREATED:20230629T141520Z
LAST-MODIFIED:20230629T141520Z
UID:10000034-1695859200-1696204799@whitleychamber.org
SUMMARY:South Whitley Fall Festival
DESCRIPTION:Mark your calendars! More details to come!
URL:https://whitleychamber.org/event/south-whitley-fall-festival/
END:VEVENT
BEGIN:VEVENT
DTSTART;TZID=America/Indiana/Indianapolis:20231005T163000
DTEND;TZID=America/Indiana/Indianapolis:20231005T193000
DTSTAMP:20260421T092100
CREATED:20230918T145452Z
LAST-MODIFIED:20230925T133432Z
UID:10000048-1696523400-1696534200@whitleychamber.org
SUMMARY:Hubie Ashcraft Taste and Tunes Fundraiser
DESCRIPTION:Join us for the Hubie Ashcraft Taste & Tunes Fundraiser! \nThe Hubie Ashcraft Taste & Tunes Fundraiser promises to be a memorable evening filled with live music and culinary delights. This event not only celebrates the talent of local musician Hubie Ashcraft but also serves as a fundraiser to support a noble cause. \nThe proceeds from this event will go towards the Woodlands Senior Activity Center\, an organization dedicated to enhancing the quality of life for area senior citizens. Woodlands provides crucial services and resources that benefit our senior community\, and this fundraiser is a significant step towards supporting their efforts. \nAttendees will be treated to a captivating live music performance by Hubie Ashcraft\, renowned for his soulful tunes and engaging stage presence. The event will run from 4:30 PM to 7:30 PM\, offering ample time for guests to enjoy the music and indulge in a delectable culinary experience\, with a range of delightful dishes and refreshments for everyone to savor. \nTickets for this event are available until September 29th at noon. By attending the Taste & Tunes Fundraiser\, community members not only get to enjoy a wonderful evening but also contribute to a worthy cause that positively impacts the lives of our cherished senior citizens. \n710 Opportunity Drive\, Columbia City\, IN\, USA \n  \nAndy’s Carwash sponsored Hubie at the Woodlands Senior Center.
URL:https://whitleychamber.org/event/hubie-ashcraft-taste-and-tunes-fundraiser/
LOCATION:710 Opportunity Drive\, Columbia City\, IN\, USA\, The Woodlands Senior Activity Center\, Columbia City\, IN\, 46725\, United States
END:VEVENT
BEGIN:VEVENT
DTSTART;TZID=America/Indiana/Indianapolis:20231019T180000
DTEND;TZID=America/Indiana/Indianapolis:20231019T200000
DTSTAMP:20260421T092100
CREATED:20230925T132842Z
LAST-MODIFIED:20231003T163631Z
UID:10000057-1697738400-1697745600@whitleychamber.org
SUMMARY:Annual Chamber Dinner
DESCRIPTION:More information can be found here.
URL:https://whitleychamber.org/event/annual-chamber-dinner/
END:VEVENT
BEGIN:VEVENT
DTSTART;TZID=America/Indiana/Indianapolis:20231020T170000
DTEND;TZID=America/Indiana/Indianapolis:20231020T190000
DTSTAMP:20260421T092100
CREATED:20230925T131915Z
LAST-MODIFIED:20230925T133531Z
UID:10000050-1697821200-1697828400@whitleychamber.org
SUMMARY:Ladies Night Out Promo at Andy's Car Wash
DESCRIPTION:Stop by Andy’s before you head to Ladies Night Out for $5 OFF Ultimate Works. \nAndy’s Car Wash \n255 Frontage Rd\nColumbia City\, IN 46725
URL:https://whitleychamber.org/event/ladies-night-out-promo-at-andys-car-wash/
END:VEVENT
BEGIN:VEVENT
DTSTART;TZID=America/Indiana/Indianapolis:20231023T080000
DTEND;TZID=America/Indiana/Indianapolis:20231023T170000
DTSTAMP:20260421T092100
CREATED:20231023T180620Z
LAST-MODIFIED:20231023T180620Z
UID:10000062-1698048000-1698080400@whitleychamber.org
SUMMARY:Financial Foundations Training
DESCRIPTION:Brightpoint Development Fund’s (BDF) Personal Financial Foundations training in partnership with the Whitley County Community Foundation is here! BDF’s mission is to create economic opportunities for communities\, families and individuals who lack access to affordable capital and financial services. We are offering a free training series with four parts covering important topics such as budgeting\, banking\, savings\, and credit scores. \n  \nThe first course will take place on October 26 from 2-3 PM at the Foundation’s new office building.
URL:https://whitleychamber.org/event/financial-foundations-training/
ATTACH;FMTTYPE=image/png:https://whitleychamber.org/wp-content/uploads/2023/10/Whitley-Co-Financial-Foundations-Flyer.png
END:VEVENT
BEGIN:VEVENT
DTSTART;TZID=America/Indiana/Indianapolis:20231027T153000
DTEND;TZID=America/Indiana/Indianapolis:20231027T183000
DTSTAMP:20260421T092100
CREATED:20230925T132415Z
LAST-MODIFIED:20230925T132415Z
UID:10000053-1698420600-1698431400@whitleychamber.org
SUMMARY:Lil Pumpkins on the Square - Whitley County Business Trick-or-Treat
DESCRIPTION:All Whitley County businesses are invited to participate.
URL:https://whitleychamber.org/event/lil-pumpkins-on-the-square-whitley-county-business-trick-or-treat/
END:VEVENT
BEGIN:VEVENT
DTSTART;VALUE=DATE:20231028
DTEND;VALUE=DATE:20231029
DTSTAMP:20260421T092100
CREATED:20230925T132645Z
LAST-MODIFIED:20230925T132645Z
UID:10000056-1698451200-1698537599@whitleychamber.org
SUMMARY:Churubusco's Halloweenfest
DESCRIPTION:Events all day! \n11-2: Pork Burger Sale by CHS Show Choir \n12-2: Chamber Trick-or-Treat downtown \n2:15: Costume Contest \n5-7: Town-wide Trick-or-Treat \n  \n 
URL:https://whitleychamber.org/event/churubuscos-halloweenfest/
END:VEVENT
BEGIN:VEVENT
DTSTART;TZID=America/Indiana/Indianapolis:20231028T150000
DTEND;TZID=America/Indiana/Indianapolis:20231028T170000
DTSTAMP:20260421T092100
CREATED:20230925T132308Z
LAST-MODIFIED:20230925T132308Z
UID:10000052-1698505200-1698512400@whitleychamber.org
SUMMARY:3rd Annual Loon Lake Trick-or-Treat
DESCRIPTION:
URL:https://whitleychamber.org/event/3rd-annual-loon-lake-trick-or-treat/
END:VEVENT
BEGIN:VEVENT
DTSTART;TZID=America/Indiana/Indianapolis:20231028T170000
DTEND;TZID=America/Indiana/Indianapolis:20231028T200000
DTSTAMP:20260421T092100
CREATED:20230925T132446Z
LAST-MODIFIED:20230925T132446Z
UID:10000054-1698512400-1698523200@whitleychamber.org
SUMMARY:Columbia City Trick-or-Treat
DESCRIPTION:
URL:https://whitleychamber.org/event/columbia-city-trick-or-treat/
END:VEVENT
BEGIN:VEVENT
DTSTART;TZID=America/Indiana/Indianapolis:20231028T180000
DTEND;TZID=America/Indiana/Indianapolis:20231028T200000
DTSTAMP:20260421T092100
CREATED:20230925T132512Z
LAST-MODIFIED:20230925T132512Z
UID:10000055-1698516000-1698523200@whitleychamber.org
SUMMARY:South Whitley Trick-or-Treat
DESCRIPTION:
URL:https://whitleychamber.org/event/south-whitley-trick-or-treat/
END:VEVENT
END:VCALENDAR