BEGIN:VCALENDAR
VERSION:2.0
PRODID:-//Whitley County Chamber of Commerce &amp; Visitors Center - ECPv6.13.1//NONSGML v1.0//EN
CALSCALE:GREGORIAN
METHOD:PUBLISH
X-WR-CALNAME:Whitley County Chamber of Commerce &amp; Visitors Center
X-ORIGINAL-URL:https://whitleychamber.org
X-WR-CALDESC:Events for Whitley County Chamber of Commerce &amp; Visitors Center
REFRESH-INTERVAL;VALUE=DURATION:PT1H
X-Robots-Tag:noindex
X-PUBLISHED-TTL:PT1H
BEGIN:VTIMEZONE
TZID:America/Indiana/Indianapolis
BEGIN:DAYLIGHT
TZOFFSETFROM:-0500
TZOFFSETTO:-0400
TZNAME:EDT
DTSTART:20240310T070000
END:DAYLIGHT
BEGIN:STANDARD
TZOFFSETFROM:-0400
TZOFFSETTO:-0500
TZNAME:EST
DTSTART:20241103T060000
END:STANDARD
END:VTIMEZONE
BEGIN:VEVENT
DTSTART;VALUE=DATE:20240110
DTEND;VALUE=DATE:20240111
DTSTAMP:20260421T120501
CREATED:20240111T032844Z
LAST-MODIFIED:20240111T032844Z
UID:10000085-1704844800-1704931199@whitleychamber.org
SUMMARY:Last day to order "Sweet Treat Box" at Woodlands Senior Activity Center
DESCRIPTION:Last day to order a Sweet Treat Box. Orders are picked up on February 13th or 14th. The Sweet Treat fundraiser includes chocolate ganache\, turtle brownie\, orange cream cupcake\, and cheesecake with raspberry sauce. Orders are $12.
URL:https://whitleychamber.org/event/last-day-to-order-sweet-treat-box-at-woodlands-senior-activity-center/
END:VEVENT
BEGIN:VEVENT
DTSTART;TZID=America/Indiana/Indianapolis:20240117T100000
DTEND;TZID=America/Indiana/Indianapolis:20240117T140000
DTSTAMP:20260421T120501
CREATED:20240103T200254Z
LAST-MODIFIED:20240111T032508Z
UID:10000080-1705485600-1705500000@whitleychamber.org
SUMMARY:Ribbon Cutting at the NEW Bowen Center
DESCRIPTION:Please Join Us! \nWednesday\, January 17th\, 2024 \n10 AM – 2 PM \nRefreshments & Giveaways \nTour the new Facility and meet the staff \nWe’re moving to a new building and changing the face of healthcare in Whitley County!
URL:https://whitleychamber.org/event/ribbon-cutting-at-the-new-bowen-center/
END:VEVENT
BEGIN:VEVENT
DTSTART;TZID=America/Indiana/Indianapolis:20240118T090000
DTEND;TZID=America/Indiana/Indianapolis:20240118T130000
DTSTAMP:20260421T120501
CREATED:20240103T195147Z
LAST-MODIFIED:20250109T143556Z
UID:10000131-1705568400-1705582800@whitleychamber.org
SUMMARY:Market at the Crossing
DESCRIPTION:The Event Center at Paige’s Crossing 2821 E. Business 30 Columbia City\, IN 46725\nIndoor Vendor Market – More details at paigescrossing.com
URL:https://whitleychamber.org/event/market-at-the-crossing/2024-01-18/
END:VEVENT
BEGIN:VEVENT
DTSTART;TZID=America/Indiana/Indianapolis:20240127T120000
DTEND;TZID=America/Indiana/Indianapolis:20240127T140000
DTSTAMP:20260421T120501
CREATED:20240103T214734Z
LAST-MODIFIED:20240103T214734Z
UID:10000081-1706356800-1706364000@whitleychamber.org
SUMMARY:Bigfoot in Indiana
DESCRIPTION:Join us in the auditorium at the South Whitley Community Public Library from 12-2 p.m. to hear from Bigfoot Researcher LeRoy Nail \n  \nAdmission is free!
URL:https://whitleychamber.org/event/bigfoot-in-indiana/
END:VEVENT
BEGIN:VEVENT
DTSTART;TZID=America/Indiana/Indianapolis:20240130T160000
DTEND;TZID=America/Indiana/Indianapolis:20240130T183000
DTSTAMP:20260421T120501
CREATED:20240111T032717Z
LAST-MODIFIED:20240111T032717Z
UID:10000084-1706630400-1706639400@whitleychamber.org
SUMMARY:Bingo\, Dinner & Music at Woodlands Senior Activity Center
DESCRIPTION:4 PM Bingo followed by 5 PM dinner and 5:30 PM music by Garry Jones \nThe Woodlands Senior Activity Center\, located at 710 N. Opportunity Dr. Columbia City\, IN 46725. \nMeals are $5 and must be reserved two business days in advance by calling 260-248-8944.
URL:https://whitleychamber.org/event/bingo-dinner-music-at-woodlands-senior-activity-center/
END:VEVENT
END:VCALENDAR