BEGIN:VCALENDAR
VERSION:2.0
PRODID:-//Whitley County Chamber of Commerce &amp; Visitors Center - ECPv6.13.1//NONSGML v1.0//EN
CALSCALE:GREGORIAN
METHOD:PUBLISH
X-ORIGINAL-URL:https://whitleychamber.org
X-WR-CALDESC:Events for Whitley County Chamber of Commerce &amp; Visitors Center
REFRESH-INTERVAL;VALUE=DURATION:PT1H
X-Robots-Tag:noindex
X-PUBLISHED-TTL:PT1H
BEGIN:VTIMEZONE
TZID:America/Indiana/Indianapolis
BEGIN:DAYLIGHT
TZOFFSETFROM:-0500
TZOFFSETTO:-0400
TZNAME:EDT
DTSTART:20240310T070000
END:DAYLIGHT
BEGIN:STANDARD
TZOFFSETFROM:-0400
TZOFFSETTO:-0500
TZNAME:EST
DTSTART:20241103T060000
END:STANDARD
END:VTIMEZONE
BEGIN:VEVENT
DTSTART;TZID=America/Indiana/Indianapolis:20240314T113000
DTEND;TZID=America/Indiana/Indianapolis:20240314T133000
DTSTAMP:20260421T144536
CREATED:20240118T040120Z
LAST-MODIFIED:20240118T040120Z
UID:10000088-1710415800-1710423000@whitleychamber.org
SUMMARY:CCHS College & Career Fair
DESCRIPTION:To help connect area businesses to Whitley County high school students\, CCHS is hosting a College and Career Fair on Thursday\, March 14th from 11:30AM-1:30PM. \nLast year’s event was fantastic\, with nearly 50 colleges and 50 employers participating!  This event gives high school students a chance to explore opportunities for their futures.  Students from Columbia City High School will attend\, and students from Churubusco High School and Whitko High School have been invited as well\, and will be bussed to CCHS. \nReservations are being accepted through Friday\, March 1st.   Please scan the QR code below or click here to complete the Career Fair Registration Form to reserve your spot!
URL:https://whitleychamber.org/event/cchs-college-career-fair/
END:VEVENT
BEGIN:VEVENT
DTSTART;TZID=America/Indiana/Indianapolis:20240314T183000
DTEND;TZID=America/Indiana/Indianapolis:20240314T203000
DTSTAMP:20260421T144536
CREATED:20240311T165955Z
LAST-MODIFIED:20240311T165955Z
UID:10000101-1710441000-1710448200@whitleychamber.org
SUMMARY:Get to Know Grant • A Townhall Event
DESCRIPTION:Grant is a husband\, father\, builder\, servant of Jesus Christ\, & candidate for Congress. You’re invited to hear his passion for serving our community at this Townhall event
URL:https://whitleychamber.org/event/get-to-know-grant-a-townhall-event/
END:VEVENT
BEGIN:VEVENT
DTSTART;TZID=America/Indiana/Indianapolis:20240315T113000
DTEND;TZID=America/Indiana/Indianapolis:20240315T133000
DTSTAMP:20260421T144536
CREATED:20240221T151311Z
LAST-MODIFIED:20240221T151326Z
UID:10000098-1710502200-1710509400@whitleychamber.org
SUMMARY:2024 State of the City Address
DESCRIPTION:11:30am Registration\n12:30pm Address \n$20 per person – appetizers and drinks provided.\nHeld at the Peabody Public Library in Columbia City\, IN. \nContact Jennifer Esterline at jesterline@whitleychamber.org to RSVP.\n2024 State of the City Address
URL:https://whitleychamber.org/event/2024-state-of-the-city-address/
END:VEVENT
BEGIN:VEVENT
DTSTART;TZID=America/Indiana/Indianapolis:20240321T174500
DTEND;TZID=America/Indiana/Indianapolis:20240321T183000
DTSTAMP:20260421T144536
CREATED:20240207T161733Z
LAST-MODIFIED:20240207T161733Z
UID:10000097-1711043100-1711045800@whitleychamber.org
SUMMARY:Community Conversation - Remembering the Kent Theatre
DESCRIPTION:A time for community members to gather together and remember the fun and experiences had at the Kent Theatre in South Whitley.\nHeld at the South Whitley Community Public Library.
URL:https://whitleychamber.org/event/community-conversation-remembering-the-kent-theatre/
END:VEVENT
BEGIN:VEVENT
DTSTART;TZID=America/Indiana/Indianapolis:20240322T163000
DTEND;TZID=America/Indiana/Indianapolis:20240322T180000
DTSTAMP:20260421T144536
CREATED:20240305T185901Z
LAST-MODIFIED:20240305T185901Z
UID:10000099-1711125000-1711130400@whitleychamber.org
SUMMARY:The Waters Egg Hunt
DESCRIPTION:Bunny has been out and left some eggs for grabs! Bring little ones and big ones out to enjoy the Easter festivities! \nHeld at The Waters of Columbia City
URL:https://whitleychamber.org/event/the-waters-egg-hunt/
END:VEVENT
BEGIN:VEVENT
DTSTART;TZID=America/Indiana/Indianapolis:20240322T183000
DTEND;TZID=America/Indiana/Indianapolis:20240322T200000
DTSTAMP:20260421T144536
CREATED:20240207T161625Z
LAST-MODIFIED:20240207T161638Z
UID:10000096-1711132200-1711137600@whitleychamber.org
SUMMARY:South Whitley Cinema
DESCRIPTION:Held at the South Whitley Community Public Library. Free admission.\nJoin us in the auditorium for the action/fantasy movie Spider-Man Into the Spider-Verse. This film is rated PG.
URL:https://whitleychamber.org/event/south-whitley-cinema-2/
END:VEVENT
BEGIN:VEVENT
DTSTART;TZID=America/Indiana/Indianapolis:20240323T153000
DTEND;TZID=America/Indiana/Indianapolis:20240323T170000
DTSTAMP:20260421T144536
CREATED:20240321T145832Z
LAST-MODIFIED:20240321T145832Z
UID:10000102-1711207800-1711213200@whitleychamber.org
SUMMARY:Larwill Community Fish Fry
DESCRIPTION:All You Can Eat Community Fish Fry\, hosted by Larwill Fire & Larwill Lions \n\n\n\n3:30 pm – sold out \n$15 per meal
URL:https://whitleychamber.org/event/fish-fry/
END:VEVENT
BEGIN:VEVENT
DTSTART;TZID=America/Indiana/Indianapolis:20240326T180000
DTEND;TZID=America/Indiana/Indianapolis:20240326T190000
DTSTAMP:20260421T144536
CREATED:20240103T214821Z
LAST-MODIFIED:20240103T214821Z
UID:10000082-1711476000-1711479600@whitleychamber.org
SUMMARY:Celtic Music Performance at South Whitley Community Public Library
DESCRIPTION:Join us at 6 p.m. in the auditorium when Kelly Ann Thompson makes a return visit to SWCPL with a fun and informative performance of Celtic Music
URL:https://whitleychamber.org/event/celtic-music-performance-at-south-whitley-community-public-library/
END:VEVENT
BEGIN:VEVENT
DTSTART;TZID=America/Indiana/Indianapolis:20240328T170000
DTEND;TZID=America/Indiana/Indianapolis:20240328T190000
DTSTAMP:20260421T144536
CREATED:20240306T154243Z
LAST-MODIFIED:20240306T154243Z
UID:10000100-1711645200-1711652400@whitleychamber.org
SUMMARY:Untraditional Easter Egg Decorating
DESCRIPTION:BK Wedding & Event Planning is hosting an untraditional Easter Egg Decorating event with pop up vendors. Flyer is on their  Facebook page! Event will be held from 5-7pm or until supplies run out!
URL:https://whitleychamber.org/event/untraditional-easter-egg-decorating/
END:VEVENT
END:VCALENDAR