BEGIN:VCALENDAR
VERSION:2.0
PRODID:-//Whitley County Chamber of Commerce &amp; Visitors Center - ECPv6.13.1//NONSGML v1.0//EN
CALSCALE:GREGORIAN
METHOD:PUBLISH
X-WR-CALNAME:Whitley County Chamber of Commerce &amp; Visitors Center
X-ORIGINAL-URL:https://whitleychamber.org
X-WR-CALDESC:Events for Whitley County Chamber of Commerce &amp; Visitors Center
REFRESH-INTERVAL;VALUE=DURATION:PT1H
X-Robots-Tag:noindex
X-PUBLISHED-TTL:PT1H
BEGIN:VTIMEZONE
TZID:America/Indiana/Indianapolis
BEGIN:DAYLIGHT
TZOFFSETFROM:-0500
TZOFFSETTO:-0400
TZNAME:EDT
DTSTART:20250309T070000
END:DAYLIGHT
BEGIN:STANDARD
TZOFFSETFROM:-0400
TZOFFSETTO:-0500
TZNAME:EST
DTSTART:20251102T060000
END:STANDARD
BEGIN:DAYLIGHT
TZOFFSETFROM:-0500
TZOFFSETTO:-0400
TZNAME:EDT
DTSTART:20260308T070000
END:DAYLIGHT
BEGIN:STANDARD
TZOFFSETFROM:-0400
TZOFFSETTO:-0500
TZNAME:EST
DTSTART:20261101T060000
END:STANDARD
END:VTIMEZONE
BEGIN:VEVENT
DTSTART;TZID=America/Indiana/Indianapolis:20251230T163000
DTEND;TZID=America/Indiana/Indianapolis:20251230T173000
DTSTAMP:20260422T180722
CREATED:20250908T164001Z
LAST-MODIFIED:20250908T164001Z
UID:10000269-1767112200-1767115800@whitleychamber.org
SUMMARY:Teen Tuesdays at Peabody Public Library
DESCRIPTION:For ages 12-18. Each week offers a different focus\, visit peabody.librarymarket.com to see this week’s activity!
URL:https://whitleychamber.org/event/teen-tuesdays-at-peabody-public-library/2025-12-30/
END:VEVENT
BEGIN:VEVENT
DTSTART;TZID=America/Indiana/Indianapolis:20260101T103000
DTEND;TZID=America/Indiana/Indianapolis:20260101T110000
DTSTAMP:20260422T180722
CREATED:20250908T164232Z
LAST-MODIFIED:20250908T164232Z
UID:10000327-1767263400-1767265200@whitleychamber.org
SUMMARY:Toddler Storytime at Peabody Public Library
DESCRIPTION:For ages 0-5. Be sure to visit peabody.librarymarket.com to see this week’s story time reading!
URL:https://whitleychamber.org/event/toddler-storytime-at-peabody-public-library/2026-01-01/
END:VEVENT
BEGIN:VEVENT
DTSTART;TZID=America/Indiana/Indianapolis:20260105T130000
DTEND;TZID=America/Indiana/Indianapolis:20260105T140000
DTSTAMP:20260422T180722
CREATED:20250908T164539Z
LAST-MODIFIED:20250908T164539Z
UID:10000385-1767618000-1767621600@whitleychamber.org
SUMMARY:Homeschool Happenings at Peabody Public Library
DESCRIPTION:For children ages 6-11. FREE to attend!\nEach week has a different focus\, so be sure to visit peabody.librarymarket.com to see what’s in store for this week!
URL:https://whitleychamber.org/event/homeschool-happenings-at-peabody-public-library/2026-01-05/
END:VEVENT
BEGIN:VEVENT
DTSTART;TZID=America/Indiana/Indianapolis:20260106T163000
DTEND;TZID=America/Indiana/Indianapolis:20260106T173000
DTSTAMP:20260422T180722
CREATED:20250908T164001Z
LAST-MODIFIED:20250908T164001Z
UID:10000270-1767717000-1767720600@whitleychamber.org
SUMMARY:Teen Tuesdays at Peabody Public Library
DESCRIPTION:For ages 12-18. Each week offers a different focus\, visit peabody.librarymarket.com to see this week’s activity!
URL:https://whitleychamber.org/event/teen-tuesdays-at-peabody-public-library/2026-01-06/
END:VEVENT
BEGIN:VEVENT
DTSTART;TZID=America/Indiana/Indianapolis:20260108T103000
DTEND;TZID=America/Indiana/Indianapolis:20260108T110000
DTSTAMP:20260422T180722
CREATED:20250908T164232Z
LAST-MODIFIED:20250908T164232Z
UID:10000328-1767868200-1767870000@whitleychamber.org
SUMMARY:Toddler Storytime at Peabody Public Library
DESCRIPTION:For ages 0-5. Be sure to visit peabody.librarymarket.com to see this week’s story time reading!
URL:https://whitleychamber.org/event/toddler-storytime-at-peabody-public-library/2026-01-08/
END:VEVENT
BEGIN:VEVENT
DTSTART;TZID=America/Indiana/Indianapolis:20260112T130000
DTEND;TZID=America/Indiana/Indianapolis:20260112T140000
DTSTAMP:20260422T180722
CREATED:20250908T164539Z
LAST-MODIFIED:20250908T164539Z
UID:10000386-1768222800-1768226400@whitleychamber.org
SUMMARY:Homeschool Happenings at Peabody Public Library
DESCRIPTION:For children ages 6-11. FREE to attend!\nEach week has a different focus\, so be sure to visit peabody.librarymarket.com to see what’s in store for this week!
URL:https://whitleychamber.org/event/homeschool-happenings-at-peabody-public-library/2026-01-12/
END:VEVENT
BEGIN:VEVENT
DTSTART;TZID=America/Indiana/Indianapolis:20260113T163000
DTEND;TZID=America/Indiana/Indianapolis:20260113T173000
DTSTAMP:20260422T180722
CREATED:20250908T164001Z
LAST-MODIFIED:20250908T164001Z
UID:10000271-1768321800-1768325400@whitleychamber.org
SUMMARY:Teen Tuesdays at Peabody Public Library
DESCRIPTION:For ages 12-18. Each week offers a different focus\, visit peabody.librarymarket.com to see this week’s activity!
URL:https://whitleychamber.org/event/teen-tuesdays-at-peabody-public-library/2026-01-13/
END:VEVENT
BEGIN:VEVENT
DTSTART;TZID=America/Indiana/Indianapolis:20260115T103000
DTEND;TZID=America/Indiana/Indianapolis:20260115T110000
DTSTAMP:20260422T180722
CREATED:20250908T164232Z
LAST-MODIFIED:20250908T164232Z
UID:10000329-1768473000-1768474800@whitleychamber.org
SUMMARY:Toddler Storytime at Peabody Public Library
DESCRIPTION:For ages 0-5. Be sure to visit peabody.librarymarket.com to see this week’s story time reading!
URL:https://whitleychamber.org/event/toddler-storytime-at-peabody-public-library/2026-01-15/
END:VEVENT
BEGIN:VEVENT
DTSTART;TZID=America/Indiana/Indianapolis:20260119T130000
DTEND;TZID=America/Indiana/Indianapolis:20260119T140000
DTSTAMP:20260422T180722
CREATED:20250908T164539Z
LAST-MODIFIED:20250908T164539Z
UID:10000387-1768827600-1768831200@whitleychamber.org
SUMMARY:Homeschool Happenings at Peabody Public Library
DESCRIPTION:For children ages 6-11. FREE to attend!\nEach week has a different focus\, so be sure to visit peabody.librarymarket.com to see what’s in store for this week!
URL:https://whitleychamber.org/event/homeschool-happenings-at-peabody-public-library/2026-01-19/
END:VEVENT
BEGIN:VEVENT
DTSTART;TZID=America/Indiana/Indianapolis:20260120T163000
DTEND;TZID=America/Indiana/Indianapolis:20260120T173000
DTSTAMP:20260422T180722
CREATED:20250908T164001Z
LAST-MODIFIED:20250908T164001Z
UID:10000272-1768926600-1768930200@whitleychamber.org
SUMMARY:Teen Tuesdays at Peabody Public Library
DESCRIPTION:For ages 12-18. Each week offers a different focus\, visit peabody.librarymarket.com to see this week’s activity!
URL:https://whitleychamber.org/event/teen-tuesdays-at-peabody-public-library/2026-01-20/
END:VEVENT
BEGIN:VEVENT
DTSTART;TZID=America/Indiana/Indianapolis:20260122T103000
DTEND;TZID=America/Indiana/Indianapolis:20260122T110000
DTSTAMP:20260422T180722
CREATED:20250908T164232Z
LAST-MODIFIED:20250908T164232Z
UID:10000330-1769077800-1769079600@whitleychamber.org
SUMMARY:Toddler Storytime at Peabody Public Library
DESCRIPTION:For ages 0-5. Be sure to visit peabody.librarymarket.com to see this week’s story time reading!
URL:https://whitleychamber.org/event/toddler-storytime-at-peabody-public-library/2026-01-22/
END:VEVENT
BEGIN:VEVENT
DTSTART;TZID=America/Indiana/Indianapolis:20260124T093000
DTEND;TZID=America/Indiana/Indianapolis:20260124T103000
DTSTAMP:20260422T180722
CREATED:20260113T150509Z
LAST-MODIFIED:20260113T150509Z
UID:10000459-1769247000-1769250600@whitleychamber.org
SUMMARY:AI for Small Businesses Webinar by Infacto Digital
DESCRIPTION:A 60-minute no-fluff session where small business owners can see practical ways to save time\, cut costs\, and win more customers with AI — even if they’re not tech savvy\n\n\n\nThis is an ONLINE webinar. Register here: https://infacto.digital/small-business-webinar
URL:https://whitleychamber.org/event/ai-for-small-businesses-webinar-by-infacto-digital/
END:VEVENT
BEGIN:VEVENT
DTSTART;TZID=America/Indiana/Indianapolis:20260126T130000
DTEND;TZID=America/Indiana/Indianapolis:20260126T140000
DTSTAMP:20260422T180722
CREATED:20250908T164539Z
LAST-MODIFIED:20250908T164539Z
UID:10000388-1769432400-1769436000@whitleychamber.org
SUMMARY:Homeschool Happenings at Peabody Public Library
DESCRIPTION:For children ages 6-11. FREE to attend!\nEach week has a different focus\, so be sure to visit peabody.librarymarket.com to see what’s in store for this week!
URL:https://whitleychamber.org/event/homeschool-happenings-at-peabody-public-library/2026-01-26/
END:VEVENT
BEGIN:VEVENT
DTSTART;TZID=America/Indiana/Indianapolis:20260127T163000
DTEND;TZID=America/Indiana/Indianapolis:20260127T173000
DTSTAMP:20260422T180722
CREATED:20250908T164001Z
LAST-MODIFIED:20250908T164001Z
UID:10000273-1769531400-1769535000@whitleychamber.org
SUMMARY:Teen Tuesdays at Peabody Public Library
DESCRIPTION:For ages 12-18. Each week offers a different focus\, visit peabody.librarymarket.com to see this week’s activity!
URL:https://whitleychamber.org/event/teen-tuesdays-at-peabody-public-library/2026-01-27/
END:VEVENT
BEGIN:VEVENT
DTSTART;TZID=America/Indiana/Indianapolis:20260129T103000
DTEND;TZID=America/Indiana/Indianapolis:20260129T110000
DTSTAMP:20260422T180722
CREATED:20250908T164232Z
LAST-MODIFIED:20250908T164232Z
UID:10000331-1769682600-1769684400@whitleychamber.org
SUMMARY:Toddler Storytime at Peabody Public Library
DESCRIPTION:For ages 0-5. Be sure to visit peabody.librarymarket.com to see this week’s story time reading!
URL:https://whitleychamber.org/event/toddler-storytime-at-peabody-public-library/2026-01-29/
END:VEVENT
BEGIN:VEVENT
DTSTART;TZID=America/Indiana/Indianapolis:20260202T130000
DTEND;TZID=America/Indiana/Indianapolis:20260202T140000
DTSTAMP:20260422T180722
CREATED:20250908T164539Z
LAST-MODIFIED:20250908T164539Z
UID:10000389-1770037200-1770040800@whitleychamber.org
SUMMARY:Homeschool Happenings at Peabody Public Library
DESCRIPTION:For children ages 6-11. FREE to attend!\nEach week has a different focus\, so be sure to visit peabody.librarymarket.com to see what’s in store for this week!
URL:https://whitleychamber.org/event/homeschool-happenings-at-peabody-public-library/2026-02-02/
END:VEVENT
BEGIN:VEVENT
DTSTART;TZID=America/Indiana/Indianapolis:20260203T163000
DTEND;TZID=America/Indiana/Indianapolis:20260203T173000
DTSTAMP:20260422T180722
CREATED:20250908T164001Z
LAST-MODIFIED:20250908T164001Z
UID:10000274-1770136200-1770139800@whitleychamber.org
SUMMARY:Teen Tuesdays at Peabody Public Library
DESCRIPTION:For ages 12-18. Each week offers a different focus\, visit peabody.librarymarket.com to see this week’s activity!
URL:https://whitleychamber.org/event/teen-tuesdays-at-peabody-public-library/2026-02-03/
END:VEVENT
BEGIN:VEVENT
DTSTART;TZID=America/Indiana/Indianapolis:20260205T103000
DTEND;TZID=America/Indiana/Indianapolis:20260205T110000
DTSTAMP:20260422T180722
CREATED:20250908T164232Z
LAST-MODIFIED:20250908T164232Z
UID:10000332-1770287400-1770289200@whitleychamber.org
SUMMARY:Toddler Storytime at Peabody Public Library
DESCRIPTION:For ages 0-5. Be sure to visit peabody.librarymarket.com to see this week’s story time reading!
URL:https://whitleychamber.org/event/toddler-storytime-at-peabody-public-library/2026-02-05/
END:VEVENT
BEGIN:VEVENT
DTSTART;TZID=America/Indiana/Indianapolis:20260209T130000
DTEND;TZID=America/Indiana/Indianapolis:20260209T140000
DTSTAMP:20260422T180722
CREATED:20250908T164539Z
LAST-MODIFIED:20250908T164539Z
UID:10000390-1770642000-1770645600@whitleychamber.org
SUMMARY:Homeschool Happenings at Peabody Public Library
DESCRIPTION:For children ages 6-11. FREE to attend!\nEach week has a different focus\, so be sure to visit peabody.librarymarket.com to see what’s in store for this week!
URL:https://whitleychamber.org/event/homeschool-happenings-at-peabody-public-library/2026-02-09/
END:VEVENT
BEGIN:VEVENT
DTSTART;TZID=America/Indiana/Indianapolis:20260210T163000
DTEND;TZID=America/Indiana/Indianapolis:20260210T173000
DTSTAMP:20260422T180722
CREATED:20250908T164001Z
LAST-MODIFIED:20250908T164001Z
UID:10000275-1770741000-1770744600@whitleychamber.org
SUMMARY:Teen Tuesdays at Peabody Public Library
DESCRIPTION:For ages 12-18. Each week offers a different focus\, visit peabody.librarymarket.com to see this week’s activity!
URL:https://whitleychamber.org/event/teen-tuesdays-at-peabody-public-library/2026-02-10/
END:VEVENT
BEGIN:VEVENT
DTSTART;TZID=America/Indiana/Indianapolis:20260212T103000
DTEND;TZID=America/Indiana/Indianapolis:20260212T110000
DTSTAMP:20260422T180722
CREATED:20250908T164232Z
LAST-MODIFIED:20250908T164232Z
UID:10000333-1770892200-1770894000@whitleychamber.org
SUMMARY:Toddler Storytime at Peabody Public Library
DESCRIPTION:For ages 0-5. Be sure to visit peabody.librarymarket.com to see this week’s story time reading!
URL:https://whitleychamber.org/event/toddler-storytime-at-peabody-public-library/2026-02-12/
END:VEVENT
BEGIN:VEVENT
DTSTART;TZID=America/Indiana/Indianapolis:20260216T130000
DTEND;TZID=America/Indiana/Indianapolis:20260216T140000
DTSTAMP:20260422T180722
CREATED:20250908T164539Z
LAST-MODIFIED:20250908T164539Z
UID:10000391-1771246800-1771250400@whitleychamber.org
SUMMARY:Homeschool Happenings at Peabody Public Library
DESCRIPTION:For children ages 6-11. FREE to attend!\nEach week has a different focus\, so be sure to visit peabody.librarymarket.com to see what’s in store for this week!
URL:https://whitleychamber.org/event/homeschool-happenings-at-peabody-public-library/2026-02-16/
END:VEVENT
BEGIN:VEVENT
DTSTART;TZID=America/Indiana/Indianapolis:20260217T163000
DTEND;TZID=America/Indiana/Indianapolis:20260217T173000
DTSTAMP:20260422T180722
CREATED:20250908T164001Z
LAST-MODIFIED:20250908T164001Z
UID:10000276-1771345800-1771349400@whitleychamber.org
SUMMARY:Teen Tuesdays at Peabody Public Library
DESCRIPTION:For ages 12-18. Each week offers a different focus\, visit peabody.librarymarket.com to see this week’s activity!
URL:https://whitleychamber.org/event/teen-tuesdays-at-peabody-public-library/2026-02-17/
END:VEVENT
BEGIN:VEVENT
DTSTART;TZID=America/Indiana/Indianapolis:20260219T103000
DTEND;TZID=America/Indiana/Indianapolis:20260219T110000
DTSTAMP:20260422T180722
CREATED:20250908T164232Z
LAST-MODIFIED:20250908T164232Z
UID:10000334-1771497000-1771498800@whitleychamber.org
SUMMARY:Toddler Storytime at Peabody Public Library
DESCRIPTION:For ages 0-5. Be sure to visit peabody.librarymarket.com to see this week’s story time reading!
URL:https://whitleychamber.org/event/toddler-storytime-at-peabody-public-library/2026-02-19/
END:VEVENT
BEGIN:VEVENT
DTSTART;TZID=America/Indiana/Indianapolis:20260223T130000
DTEND;TZID=America/Indiana/Indianapolis:20260223T140000
DTSTAMP:20260422T180722
CREATED:20250908T164539Z
LAST-MODIFIED:20250908T164539Z
UID:10000392-1771851600-1771855200@whitleychamber.org
SUMMARY:Homeschool Happenings at Peabody Public Library
DESCRIPTION:For children ages 6-11. FREE to attend!\nEach week has a different focus\, so be sure to visit peabody.librarymarket.com to see what’s in store for this week!
URL:https://whitleychamber.org/event/homeschool-happenings-at-peabody-public-library/2026-02-23/
END:VEVENT
BEGIN:VEVENT
DTSTART;TZID=America/Indiana/Indianapolis:20260224T163000
DTEND;TZID=America/Indiana/Indianapolis:20260224T173000
DTSTAMP:20260422T180722
CREATED:20250908T164001Z
LAST-MODIFIED:20250908T164001Z
UID:10000277-1771950600-1771954200@whitleychamber.org
SUMMARY:Teen Tuesdays at Peabody Public Library
DESCRIPTION:For ages 12-18. Each week offers a different focus\, visit peabody.librarymarket.com to see this week’s activity!
URL:https://whitleychamber.org/event/teen-tuesdays-at-peabody-public-library/2026-02-24/
END:VEVENT
BEGIN:VEVENT
DTSTART;TZID=America/Indiana/Indianapolis:20260226T103000
DTEND;TZID=America/Indiana/Indianapolis:20260226T110000
DTSTAMP:20260422T180722
CREATED:20250908T164232Z
LAST-MODIFIED:20250908T164232Z
UID:10000335-1772101800-1772103600@whitleychamber.org
SUMMARY:Toddler Storytime at Peabody Public Library
DESCRIPTION:For ages 0-5. Be sure to visit peabody.librarymarket.com to see this week’s story time reading!
URL:https://whitleychamber.org/event/toddler-storytime-at-peabody-public-library/2026-02-26/
END:VEVENT
BEGIN:VEVENT
DTSTART;TZID=America/Indiana/Indianapolis:20260302T130000
DTEND;TZID=America/Indiana/Indianapolis:20260302T140000
DTSTAMP:20260422T180722
CREATED:20250908T164539Z
LAST-MODIFIED:20250908T164539Z
UID:10000393-1772456400-1772460000@whitleychamber.org
SUMMARY:Homeschool Happenings at Peabody Public Library
DESCRIPTION:For children ages 6-11. FREE to attend!\nEach week has a different focus\, so be sure to visit peabody.librarymarket.com to see what’s in store for this week!
URL:https://whitleychamber.org/event/homeschool-happenings-at-peabody-public-library/2026-03-02/
END:VEVENT
BEGIN:VEVENT
DTSTART;TZID=America/Indiana/Indianapolis:20260303T163000
DTEND;TZID=America/Indiana/Indianapolis:20260303T173000
DTSTAMP:20260422T180722
CREATED:20250908T164001Z
LAST-MODIFIED:20250908T164001Z
UID:10000278-1772555400-1772559000@whitleychamber.org
SUMMARY:Teen Tuesdays at Peabody Public Library
DESCRIPTION:For ages 12-18. Each week offers a different focus\, visit peabody.librarymarket.com to see this week’s activity!
URL:https://whitleychamber.org/event/teen-tuesdays-at-peabody-public-library/2026-03-03/
END:VEVENT
BEGIN:VEVENT
DTSTART;TZID=America/Indiana/Indianapolis:20260305T103000
DTEND;TZID=America/Indiana/Indianapolis:20260305T110000
DTSTAMP:20260422T180722
CREATED:20250908T164232Z
LAST-MODIFIED:20250908T164232Z
UID:10000336-1772706600-1772708400@whitleychamber.org
SUMMARY:Toddler Storytime at Peabody Public Library
DESCRIPTION:For ages 0-5. Be sure to visit peabody.librarymarket.com to see this week’s story time reading!
URL:https://whitleychamber.org/event/toddler-storytime-at-peabody-public-library/2026-03-05/
END:VEVENT
END:VCALENDAR