BEGIN:VCALENDAR
VERSION:2.0
PRODID:-//Whitley County Chamber of Commerce &amp; Visitors Center - ECPv6.13.1//NONSGML v1.0//EN
CALSCALE:GREGORIAN
METHOD:PUBLISH
X-WR-CALNAME:Whitley County Chamber of Commerce &amp; Visitors Center
X-ORIGINAL-URL:https://whitleychamber.org
X-WR-CALDESC:Events for Whitley County Chamber of Commerce &amp; Visitors Center
REFRESH-INTERVAL;VALUE=DURATION:PT1H
X-Robots-Tag:noindex
X-PUBLISHED-TTL:PT1H
BEGIN:VTIMEZONE
TZID:America/Indiana/Indianapolis
BEGIN:DAYLIGHT
TZOFFSETFROM:-0500
TZOFFSETTO:-0400
TZNAME:EDT
DTSTART:20250309T070000
END:DAYLIGHT
BEGIN:STANDARD
TZOFFSETFROM:-0400
TZOFFSETTO:-0500
TZNAME:EST
DTSTART:20251102T060000
END:STANDARD
END:VTIMEZONE
BEGIN:VEVENT
DTSTART;TZID=America/Indiana/Indianapolis:20250311T163000
DTEND;TZID=America/Indiana/Indianapolis:20250311T183000
DTSTAMP:20260421T201948
CREATED:20250303T202412Z
LAST-MODIFIED:20250303T202412Z
UID:10000162-1741710600-1741717800@whitleychamber.org
SUMMARY:Teen Tuesday at Peabody Public Library
DESCRIPTION:Each Tuesday is Teen night at the Peabody Public Library! Every week is a different program suited for teens. 3/4 is Bookflix where we are discussing 100 Days of Sunlight\, by Abbie Emmons. 3/11 is Quirky Crafts\, we are crafting frames with polaroids! 3/18 is Mindful Moments\, reminding us to take time to recharge. Finally\, 3/25 is Game night. This time we will be playing basketball games! Visit ppl.lib.in.us for more details. \n  \n\n\n\nPeabody Public Library\, 1160 E SR 205\, Columbia City\, IN 46725
URL:https://whitleychamber.org/event/teen-tuesday-at-peabody-public-library/2025-03-11/
END:VEVENT
BEGIN:VEVENT
DTSTART;TZID=America/Indiana/Indianapolis:20250313T180000
DTEND;TZID=America/Indiana/Indianapolis:20250313T193000
DTSTAMP:20260421T201948
CREATED:20250303T202249Z
LAST-MODIFIED:20250303T202249Z
UID:10000155-1741888800-1741894200@whitleychamber.org
SUMMARY:The Craft of Writing Workshop at Peabody Public Library
DESCRIPTION:A series of writing workshops in the month of March. In this workshop you will learn: Setting Goals\, plot and scene structure\, character building\, sequencing\, revisions and more! \nEvery Saturday in the month of March at 2 pm and every Thursday in March at 6 pm \nMust be 18 or older to participate. \n\n\n\nPeabody Public Library\, 1160 E SR 205\, Columbia City\, IN 46725
URL:https://whitleychamber.org/event/the-craft-of-writing-workshop-at-peabody-public-library/2025-03-13/
END:VEVENT
BEGIN:VEVENT
DTSTART;TZID=America/Indiana/Indianapolis:20250315T090000
DTEND;TZID=America/Indiana/Indianapolis:20250315T130000
DTSTAMP:20260421T201948
CREATED:20240103T195147Z
LAST-MODIFIED:20250109T143556Z
UID:10000135-1742029200-1742043600@whitleychamber.org
SUMMARY:Market at the Crossing
DESCRIPTION:The Event Center at Paige’s Crossing 2821 E. Business 30 Columbia City\, IN 46725\nIndoor Vendor Market – More details at paigescrossing.com
URL:https://whitleychamber.org/event/market-at-the-crossing/2025-03-15/
END:VEVENT
BEGIN:VEVENT
DTSTART;TZID=America/Indiana/Indianapolis:20250315T140000
DTEND;TZID=America/Indiana/Indianapolis:20250315T153000
DTSTAMP:20260421T201948
CREATED:20250303T202249Z
LAST-MODIFIED:20250303T202249Z
UID:10000156-1742047200-1742052600@whitleychamber.org
SUMMARY:The Craft of Writing Workshop at Peabody Public Library
DESCRIPTION:A series of writing workshops in the month of March. In this workshop you will learn: Setting Goals\, plot and scene structure\, character building\, sequencing\, revisions and more! \nEvery Saturday in the month of March at 2 pm and every Thursday in March at 6 pm \nMust be 18 or older to participate. \n\n\n\nPeabody Public Library\, 1160 E SR 205\, Columbia City\, IN 46725
URL:https://whitleychamber.org/event/the-craft-of-writing-workshop-at-peabody-public-library/2025-03-15/
END:VEVENT
BEGIN:VEVENT
DTSTART;TZID=America/Indiana/Indianapolis:20250318T163000
DTEND;TZID=America/Indiana/Indianapolis:20250318T183000
DTSTAMP:20260421T201948
CREATED:20250303T202412Z
LAST-MODIFIED:20250303T202412Z
UID:10000163-1742315400-1742322600@whitleychamber.org
SUMMARY:Teen Tuesday at Peabody Public Library
DESCRIPTION:Each Tuesday is Teen night at the Peabody Public Library! Every week is a different program suited for teens. 3/4 is Bookflix where we are discussing 100 Days of Sunlight\, by Abbie Emmons. 3/11 is Quirky Crafts\, we are crafting frames with polaroids! 3/18 is Mindful Moments\, reminding us to take time to recharge. Finally\, 3/25 is Game night. This time we will be playing basketball games! Visit ppl.lib.in.us for more details. \n  \n\n\n\nPeabody Public Library\, 1160 E SR 205\, Columbia City\, IN 46725
URL:https://whitleychamber.org/event/teen-tuesday-at-peabody-public-library/2025-03-18/
END:VEVENT
BEGIN:VEVENT
DTSTART;TZID=America/Indiana/Indianapolis:20250320T180000
DTEND;TZID=America/Indiana/Indianapolis:20250320T193000
DTSTAMP:20260421T201948
CREATED:20250303T202249Z
LAST-MODIFIED:20250303T202249Z
UID:10000157-1742493600-1742499000@whitleychamber.org
SUMMARY:The Craft of Writing Workshop at Peabody Public Library
DESCRIPTION:A series of writing workshops in the month of March. In this workshop you will learn: Setting Goals\, plot and scene structure\, character building\, sequencing\, revisions and more! \nEvery Saturday in the month of March at 2 pm and every Thursday in March at 6 pm \nMust be 18 or older to participate. \n\n\n\nPeabody Public Library\, 1160 E SR 205\, Columbia City\, IN 46725
URL:https://whitleychamber.org/event/the-craft-of-writing-workshop-at-peabody-public-library/2025-03-20/
END:VEVENT
BEGIN:VEVENT
DTSTART;TZID=America/Indiana/Indianapolis:20250320T180000
DTEND;TZID=America/Indiana/Indianapolis:20250320T200000
DTSTAMP:20260421T201948
CREATED:20250130T140856Z
LAST-MODIFIED:20250130T140856Z
UID:10000151-1742493600-1742500800@whitleychamber.org
SUMMARY:Fostering Dreams Gala
DESCRIPTION:Thee Royal Family Kids Camp Fostering Dreams Gala is an unforgettable evening at Union 12 where we will come together to support the children in our local foster care system. Enjoy a delicious dinner and hear from Royal Family Kids Camp’s CEO and founder\, Wayne Tesch as he shares how much difference just one week can make in a childs life. In 1985 Wayne and his wife\, Diane\, took 37 kids from foster care to summer camp for the very first time. Wayne & Diane spent the next 40 years of their life promoting RFK camps throughout the county\, and serving these vulnerable children. This in-person event promises to be a night full of fun\, inspiration\, and giving back to the community. Get ready to make a difference and help us foster dreams for children in need. Mark your calendars and don’t miss out on this special occasion! Get your tickets early- limited space available! \n  \nHere is the link to get tickets or sponsor a table : https://rfkfosteringdreamsgala.eventbrite.com/ \nFor additional questions\, email rfknortheastindiana@gmail.com.
URL:https://whitleychamber.org/event/fostering-dreams-gala/
LOCATION:Union 12\, 7563 Lincoln Way Rd\, Columbia City\, IN\, 46725\, United States
END:VEVENT
BEGIN:VEVENT
DTSTART;TZID=America/Indiana/Indianapolis:20250322T140000
DTEND;TZID=America/Indiana/Indianapolis:20250322T153000
DTSTAMP:20260421T201948
CREATED:20250303T202249Z
LAST-MODIFIED:20250303T202249Z
UID:10000158-1742652000-1742657400@whitleychamber.org
SUMMARY:The Craft of Writing Workshop at Peabody Public Library
DESCRIPTION:A series of writing workshops in the month of March. In this workshop you will learn: Setting Goals\, plot and scene structure\, character building\, sequencing\, revisions and more! \nEvery Saturday in the month of March at 2 pm and every Thursday in March at 6 pm \nMust be 18 or older to participate. \n\n\n\nPeabody Public Library\, 1160 E SR 205\, Columbia City\, IN 46725
URL:https://whitleychamber.org/event/the-craft-of-writing-workshop-at-peabody-public-library/2025-03-22/
END:VEVENT
BEGIN:VEVENT
DTSTART;TZID=America/Indiana/Indianapolis:20250325T163000
DTEND;TZID=America/Indiana/Indianapolis:20250325T183000
DTSTAMP:20260421T201948
CREATED:20250303T202412Z
LAST-MODIFIED:20250303T202412Z
UID:10000164-1742920200-1742927400@whitleychamber.org
SUMMARY:Teen Tuesday at Peabody Public Library
DESCRIPTION:Each Tuesday is Teen night at the Peabody Public Library! Every week is a different program suited for teens. 3/4 is Bookflix where we are discussing 100 Days of Sunlight\, by Abbie Emmons. 3/11 is Quirky Crafts\, we are crafting frames with polaroids! 3/18 is Mindful Moments\, reminding us to take time to recharge. Finally\, 3/25 is Game night. This time we will be playing basketball games! Visit ppl.lib.in.us for more details. \n  \n\n\n\nPeabody Public Library\, 1160 E SR 205\, Columbia City\, IN 46725
URL:https://whitleychamber.org/event/teen-tuesday-at-peabody-public-library/2025-03-25/
END:VEVENT
BEGIN:VEVENT
DTSTART;TZID=America/Indiana/Indianapolis:20250327T180000
DTEND;TZID=America/Indiana/Indianapolis:20250327T193000
DTSTAMP:20260421T201948
CREATED:20250303T202249Z
LAST-MODIFIED:20250303T202249Z
UID:10000159-1743098400-1743103800@whitleychamber.org
SUMMARY:The Craft of Writing Workshop at Peabody Public Library
DESCRIPTION:A series of writing workshops in the month of March. In this workshop you will learn: Setting Goals\, plot and scene structure\, character building\, sequencing\, revisions and more! \nEvery Saturday in the month of March at 2 pm and every Thursday in March at 6 pm \nMust be 18 or older to participate. \n\n\n\nPeabody Public Library\, 1160 E SR 205\, Columbia City\, IN 46725
URL:https://whitleychamber.org/event/the-craft-of-writing-workshop-at-peabody-public-library/2025-03-27/
END:VEVENT
BEGIN:VEVENT
DTSTART;TZID=America/Indiana/Indianapolis:20250329T140000
DTEND;TZID=America/Indiana/Indianapolis:20250329T153000
DTSTAMP:20260421T201948
CREATED:20250303T202249Z
LAST-MODIFIED:20250303T202249Z
UID:10000160-1743256800-1743262200@whitleychamber.org
SUMMARY:The Craft of Writing Workshop at Peabody Public Library
DESCRIPTION:A series of writing workshops in the month of March. In this workshop you will learn: Setting Goals\, plot and scene structure\, character building\, sequencing\, revisions and more! \nEvery Saturday in the month of March at 2 pm and every Thursday in March at 6 pm \nMust be 18 or older to participate. \n\n\n\nPeabody Public Library\, 1160 E SR 205\, Columbia City\, IN 46725
URL:https://whitleychamber.org/event/the-craft-of-writing-workshop-at-peabody-public-library/2025-03-29/
END:VEVENT
BEGIN:VEVENT
DTSTART;TZID=America/Indiana/Indianapolis:20250330T143000
DTEND;TZID=America/Indiana/Indianapolis:20250330T163000
DTSTAMP:20260421T201948
CREATED:20250325T225822Z
LAST-MODIFIED:20250325T225822Z
UID:10000174-1743345000-1743352200@whitleychamber.org
SUMMARY:FREE Community Skating Event - Hosted by Andy's Car Wash
DESCRIPTION:Grab your skates and join us for an unforgettable Community Skating Event! Let’s roll into a great afternoon of fun while supporting our friends at BABE of Whitley County. Entry is simple—just bring a pack of diapers for F R E E entry or a free will donation. Together\, we can make a difference! \n\n\n\nNO ADMISSION FEE. Just bring a package of diapers (size 4\, 5\, or 6) or a free will donation.
URL:https://whitleychamber.org/event/free-community-skating-event-hosted-by-andys-car-wash/
END:VEVENT
BEGIN:VEVENT
DTSTART;TZID=America/Indiana/Indianapolis:20250401T120000
DTEND;TZID=America/Indiana/Indianapolis:20250401T180000
DTSTAMP:20260421T201948
CREATED:20250306T200019Z
LAST-MODIFIED:20250306T200019Z
UID:10000168-1743508800-1743530400@whitleychamber.org
SUMMARY:Red Cross Blood Drive at Peabody Public Library
DESCRIPTION:You can sign up for an appointment at www.redcrossblood.org or use the direct link to our library’s blood drive’s here: https://www.redcrossblood.org/give.html/drive-results?zipSponsor=pplcc You can also call to make an appointment at 1-800-733-2767. \nMust be 18+
URL:https://whitleychamber.org/event/red-cross-blood-drive-at-peabody-public-library/
END:VEVENT
BEGIN:VEVENT
DTSTART;TZID=America/Indiana/Indianapolis:20250404T080000
DTEND;TZID=America/Indiana/Indianapolis:20250404T100000
DTSTAMP:20260421T201948
CREATED:20250109T143948Z
LAST-MODIFIED:20250109T143948Z
UID:10000140-1743753600-1743760800@whitleychamber.org
SUMMARY:Cafes & Conversations - Hosted by the Whitley County Chamber
DESCRIPTION:Kick off your month with great coffee and even better company at Cafes & Collaborations! This laid-back networking event happens on the first Friday of every month\, giving you the chance to connect with other local professionals\, swap ideas\, and build relationships in a relaxed setting. \n\n\nEach month\, we’ll meet at a local bakery or coffee shop to support our community and keep things fresh — so you’ll always have a new spot to explore and enjoy!\n\nWhen: First Friday of every month starting at 8amWhere: This month\, we’re meeting at Ozaras (105 N Main Street in Columbia City)Cost: No cost to attend. Just the cost of your coffee/breakfast!\n\n\nNo need to stress — just bring your business cards\, grab a coffee\, and get ready to chat. See you there!
URL:https://whitleychamber.org/event/cafes-conversations-hosted-by-the-whitley-county-chamber-2/2025-04-04/
END:VEVENT
BEGIN:VEVENT
DTSTART;TZID=America/Indiana/Indianapolis:20250405T090000
DTEND;TZID=America/Indiana/Indianapolis:20250405T130000
DTSTAMP:20260421T201948
CREATED:20240103T195147Z
LAST-MODIFIED:20250109T143556Z
UID:10000136-1743843600-1743858000@whitleychamber.org
SUMMARY:Market at the Crossing
DESCRIPTION:The Event Center at Paige’s Crossing 2821 E. Business 30 Columbia City\, IN 46725\nIndoor Vendor Market – More details at paigescrossing.com
URL:https://whitleychamber.org/event/market-at-the-crossing/2025-04-05/
END:VEVENT
BEGIN:VEVENT
DTSTART;TZID=America/Indiana/Indianapolis:20250405T100000
DTEND;TZID=America/Indiana/Indianapolis:20250405T150000
DTSTAMP:20260421T201948
CREATED:20250319T201047Z
LAST-MODIFIED:20250319T201047Z
UID:10000172-1743847200-1743865200@whitleychamber.org
SUMMARY:Paige's Crossing Opening Day
DESCRIPTION:Paige’s Crossing\n2821 E Business 30\nColumbia City\, N 46725\n\n\n\nJoin us for our opening day of the 2025 season. This is also the last day for our Markets at the Crossing. The Easter Bunny will be Hopping Around the Event Center for photo ops\, Silly Goose Juice will be serving their delicious Lemon Shake Ups in the parking lots and all the attractions you have missed all winter will be open for a day full of fun!
URL:https://whitleychamber.org/event/paiges-crossing-opening-day/
END:VEVENT
BEGIN:VEVENT
DTSTART;TZID=America/Indiana/Indianapolis:20250405T103000
DTEND;TZID=America/Indiana/Indianapolis:20250405T120000
DTSTAMP:20260421T201948
CREATED:20250306T195841Z
LAST-MODIFIED:20250306T195841Z
UID:10000166-1743849000-1743854400@whitleychamber.org
SUMMARY:An Egg-cellent Adventure at Peabody Public Library
DESCRIPTION:Join us for an egg-citing storytime for the whole family where we will read books and sing songs to learn about eggs and the creatures that lay them! Afterwards we will then move down to the wetlands for a massive egg hunt. \nNo age restriction – the event is FREE!
URL:https://whitleychamber.org/event/an-egg-cellent-adventure-at-peabody-public-library/
END:VEVENT
BEGIN:VEVENT
DTSTART;TZID=America/Indiana/Indianapolis:20250412T100000
DTEND;TZID=America/Indiana/Indianapolis:20250412T120000
DTSTAMP:20260421T201948
CREATED:20250319T200928Z
LAST-MODIFIED:20250319T200934Z
UID:10000171-1744452000-1744459200@whitleychamber.org
SUMMARY:Community Easter Event
DESCRIPTION:Easter Egg event for children 0-12\, pictures with the Easter Bunny\, light refreshments and fun prizes for the golden egg finders!! \n\n\n\n\n\n\n\n  \nStoryPoint Fort Wayne West \n\n\n\n611 W. Countyline Rd S. Fort Wayne\, IN
URL:https://whitleychamber.org/event/community-easter-event/
END:VEVENT
BEGIN:VEVENT
DTSTART;TZID=America/Indiana/Indianapolis:20250412T140000
DTEND;TZID=America/Indiana/Indianapolis:20250412T153000
DTSTAMP:20260421T201948
CREATED:20250306T195930Z
LAST-MODIFIED:20250306T195930Z
UID:10000167-1744466400-1744471800@whitleychamber.org
SUMMARY:Plant Swap at Peabody Public Library
DESCRIPTION:Come one all! Bring one or multiple indoor and outdoor plants to swap with others to grow your plant collection! Don’t be afraid to ask questions! Come in to meet with like minded plant people! \nAges 12+\, no admission fee!
URL:https://whitleychamber.org/event/plant-swap-at-peabody-public-library/
END:VEVENT
BEGIN:VEVENT
DTSTART;TZID=America/Indiana/Indianapolis:20250416T180000
DTEND;TZID=America/Indiana/Indianapolis:20250416T200000
DTSTAMP:20260421T201948
CREATED:20250306T200159Z
LAST-MODIFIED:20250306T200159Z
UID:10000169-1744826400-1744833600@whitleychamber.org
SUMMARY:Family Game Night at Peabody Public Library
DESCRIPTION:Bring out the entire family for this awesome game night! We will have various board games laid out for your family to enjoy and play.
URL:https://whitleychamber.org/event/family-game-night-at-peabody-public-library/
END:VEVENT
BEGIN:VEVENT
DTSTART;TZID=America/Indiana/Indianapolis:20250418T180000
DTEND;TZID=America/Indiana/Indianapolis:20250418T210000
DTSTAMP:20260421T201948
CREATED:20250109T144304Z
LAST-MODIFIED:20250109T144322Z
UID:10000150-1744999200-1745010000@whitleychamber.org
SUMMARY:Easter Egg Hunt at Paige's Crossing
DESCRIPTION:Free Easter Egg Hunt for all ages\, including an inclusive egg hunt. Food trucks\, wristband special\, arcade special\, batting cages open\, driving range\, vendors! \n\n\n\n2821 E Business 30 Columbia City\, IN 46725 \nNo admission fee!
URL:https://whitleychamber.org/event/easter-egg-hunt-at-paiges-crossing/
END:VEVENT
BEGIN:VEVENT
DTSTART;TZID=America/Indiana/Indianapolis:20250426T090000
DTEND;TZID=America/Indiana/Indianapolis:20250426T150000
DTSTAMP:20260421T201948
CREATED:20250319T200738Z
LAST-MODIFIED:20250319T200738Z
UID:10000170-1745658000-1745679600@whitleychamber.org
SUMMARY:STEM Fest 2025
DESCRIPTION:STEM Fest 2025: Where Curiosity Sparks Innovation! 🎉👩‍🔬 \n  \nAttention all future scientists\, engineers\, and creators in grades 3-6 across NE Indiana —this is YOUR day to explore\, experiment\, and get hands-on with STEM! 🌟 👀 What Awaits You? NON-STOP STEM ACTION! 🧪⚙️💡 \n  \nGet ready to build\, code\, experiment\, and create with amazing hands-on activities\, including: \n🔹 Buzzing Buddies & Pollinators 🐝 – Discover the tiny creatures that power our world!\n🔹 UAVs & Drones 🚁 – Take flight and explore the science of aviation!\n🔹 Animal Science 🐾 – Get up close with the wonders of the animal kingdom!\n🔹 Chemical Science 💥 – Mix\, fizz\, and react with mind-blowing experiments!\n🔹 Robotics & Coding 🤖 – Program\, tinker\, and bring robots to life!\n🔹 Laser Engraving & 3D Printing 🎨 – Create and customize like a tech pro!\n🔹 Science of Sports ⚽ – Discover the physics behind your favorite games!\n🔹 Cooking Meets Motion 🍳⚙️ – A delicious mix of science and culinary creativity!\n🔹 Engineering Challenges 🏗️ – Design\, build\, and test your skills! \n🔥 It’s STEM Like You’ve Never Seen Before! Whether you love tinkering\, testing\, flying\, coding\, or creating\, there’s something for EVERYONE! Bring your curiosity\, creativity\, and energy—and get ready for an unforgettable day of discovery! 🚀💡 \n📅 Date: Saturday\, April 26th from 9:00a – 3:00p\n📍 Location: Indian Springs Middle School 🎟️\nCost: $30 (this covers all activities\, lunch\, snacks\, STEM Fest t-shirt & STEM Fest cinch bag) *open to all youth in grades 3-6! \nDon’t miss out—spread the word and bring your friends!! \nREGISTER HERE: https://bit.ly/2025SF  \nSTEM Fest fee: $30 payable via cash or check at the Whitley County Extension Office \nPayment is expected immediately following registration to secure your spot at STEM Fest 2025. Payment will not be accepted the day of because supplies need to be purchased in advance of the workshop. Registration closes April 7th! *No refunds will be given after the close of registration. \nWe’re excited to see you at STEM Fest 2025!! Invite a friend to join you! 4-H membership is NOT required to take part in fun events like this!!
URL:https://whitleychamber.org/event/stem-fest-2025/
END:VEVENT
BEGIN:VEVENT
DTSTART;TZID=America/Indiana/Indianapolis:20250501T090000
DTEND;TZID=America/Indiana/Indianapolis:20250501T180000
DTSTAMP:20260421T201948
CREATED:20250409T152150Z
LAST-MODIFIED:20250409T152150Z
UID:10000175-1746090000-1746122400@whitleychamber.org
SUMMARY:Friends of the Library Book Sale Peabody Public Library
DESCRIPTION:Calling all book lovers! Dive into a treasure trove of stories\, knowledge\, and inspiration. From timeless classics to contemporary bestsellers\, we have something for every reader. Don’t miss this chance to fill your shelves and fuel your imagination. \n\n\n\n1160 E St Rd 205\, Columbia City\, IN 46725
URL:https://whitleychamber.org/event/friends-of-the-library-book-sale-peabody-public-library/
END:VEVENT
BEGIN:VEVENT
DTSTART;TZID=America/Indiana/Indianapolis:20250502T080000
DTEND;TZID=America/Indiana/Indianapolis:20250502T100000
DTSTAMP:20260421T201948
CREATED:20250109T143948Z
LAST-MODIFIED:20250109T143948Z
UID:10000141-1746172800-1746180000@whitleychamber.org
SUMMARY:Cafes & Conversations - Hosted by the Whitley County Chamber
DESCRIPTION:Kick off your month with great coffee and even better company at Cafes & Collaborations! This laid-back networking event happens on the first Friday of every month\, giving you the chance to connect with other local professionals\, swap ideas\, and build relationships in a relaxed setting. \n\n\nEach month\, we’ll meet at a local bakery or coffee shop to support our community and keep things fresh — so you’ll always have a new spot to explore and enjoy!\n\nWhen: First Friday of every month starting at 8amWhere: This month\, we’re meeting at Ozaras (105 N Main Street in Columbia City)Cost: No cost to attend. Just the cost of your coffee/breakfast!\n\n\nNo need to stress — just bring your business cards\, grab a coffee\, and get ready to chat. See you there!
URL:https://whitleychamber.org/event/cafes-conversations-hosted-by-the-whitley-county-chamber-2/2025-05-02/
END:VEVENT
BEGIN:VEVENT
DTSTART;TZID=America/Indiana/Indianapolis:20250503T130000
DTEND;TZID=America/Indiana/Indianapolis:20250503T150000
DTSTAMP:20260421T201948
CREATED:20250409T152247Z
LAST-MODIFIED:20250409T152247Z
UID:10000176-1746277200-1746284400@whitleychamber.org
SUMMARY:Basketball in Indiana with J. Ronald Newlin
DESCRIPTION:J. Ronald Newlin joins us to talk about basketball in Indiana. His 2023 book Legacy and Legend: The History of Mythology of Basketball in Indiana was shortlisted for an Indiana Authors Award in 2024. Legacy and Legend was conceived as an introduction to to the development of Indiana’s signature game at all levels. \n\n\n\nRegister to save a seat.\n\n\n\n1160 E St Rd 205\, Columbia City\, IN 46725
URL:https://whitleychamber.org/event/basketball-in-indiana-with-j-ronald-newlin/
END:VEVENT
BEGIN:VEVENT
DTSTART;TZID=America/Indiana/Indianapolis:20250509T200000
DTEND;TZID=America/Indiana/Indianapolis:20250509T233000
DTSTAMP:20260421T201948
CREATED:20250409T152333Z
LAST-MODIFIED:20250409T152338Z
UID:10000177-1746820800-1746833400@whitleychamber.org
SUMMARY:Not Your Mother's Average Ghost Hunt
DESCRIPTION:Another fun and haunting Friday night at PPL! We’re teaming up with ESP\, a local paranormal exploration group\, to do another ghostly hunt on the library premises. We strongly encourage brave souls with a curiosity for the unknown to sign up with their mother’s (if they are interested). Teens 16+ can sign up as long as a guardian is also in attendance. Please join us for a Mother’s day delight and possible fright! \nGo online at ppl.lib.in.us to register for this event! \n\n\n\n16+
URL:https://whitleychamber.org/event/not-your-mothers-average-ghost-hunt/
END:VEVENT
BEGIN:VEVENT
DTSTART;TZID=America/Indiana/Indianapolis:20250510T220000
DTEND;TZID=America/Indiana/Indianapolis:20250511T020000
DTSTAMP:20260421T201948
CREATED:20250429T142925Z
LAST-MODIFIED:20250429T142925Z
UID:10000181-1746914400-1746928800@whitleychamber.org
SUMMARY:After Prom - Midnight Carnival at Paige's Crossing
DESCRIPTION:After Prom Event A night under the lights for kids to come have fun in a safe space\, unlimited wristbands\, arcade\, bounce house\, concessions available.
URL:https://whitleychamber.org/event/after-prom-midnight-carnival-at-paiges-crossing/
END:VEVENT
BEGIN:VEVENT
DTSTART;TZID=America/Indiana/Indianapolis:20250516T163000
DTEND;TZID=America/Indiana/Indianapolis:20250516T173000
DTSTAMP:20260421T201948
CREATED:20250409T152436Z
LAST-MODIFIED:20250409T152436Z
UID:10000178-1747413000-1747416600@whitleychamber.org
SUMMARY:Tales with Tails at Peabody Public Library
DESCRIPTION:At tales with tails we will have a service dog at the library that you can sit with and read to! You can probably even sneaks in a few pets as well! \n\n\n\n1160 E SR 205\, CC\, IN 46725 \nGo online at ppl.lib.in.us to save your seat.
URL:https://whitleychamber.org/event/tales-with-tails-at-peabody-public-library/
END:VEVENT
BEGIN:VEVENT
DTSTART;TZID=America/Indiana/Indianapolis:20250517T090000
DTEND;TZID=America/Indiana/Indianapolis:20250517T170000
DTSTAMP:20260421T201948
CREATED:20250319T201219Z
LAST-MODIFIED:20250319T201219Z
UID:10000173-1747472400-1747501200@whitleychamber.org
SUMMARY:Go Topless Day
DESCRIPTION:Join us for Whitley County’s first-ever Go Topless Day\, presented by the Whitley County Chamber and Dirty Off-Road Addiction\, all in support of Disabled American Veterans! \nAll Jeeps and topless vehicles are welcome to roll in for an action-packed day featuring:\n🔥 Jeeps on display\n🛍️ Vendor Alley\n✨ Show & Shine Competition\n🏆 Multiple Awards\n🚗 Countywide Cruise \nExclusive event merch will be available for purchase\, so don’t miss out! Bring your ride\, your crew\, and your love for adventure—let’s make this an unforgettable day for a great cause! \nEvent will be held from 9am – 5pm. Stay tuned on more details for the after party! \nSpecial thanks to our major event sponsors for making this possible: City Auto Mall & Glenbrook Jeep\, Paige’s Crossing & Dirty Addiction Off-Road! \nREGISTER HERE: https://www.zeffy.com/ticketing/2025-go-topless-jeep-event-driven-by-dirty-addiction-off-road-and-your-whitley-county-chamber
URL:https://whitleychamber.org/event/go-topless-day/
END:VEVENT
BEGIN:VEVENT
DTSTART;TZID=America/Indiana/Indianapolis:20250528T180000
DTEND;TZID=America/Indiana/Indianapolis:20250528T193000
DTSTAMP:20260421T201948
CREATED:20250409T152557Z
LAST-MODIFIED:20250409T152557Z
UID:10000179-1748455200-1748460600@whitleychamber.org
SUMMARY:Family Movie Night at Peabody Public Library
DESCRIPTION:Read this season’s Family Book Club title\, The Wild Robot\, together as a family and then come to the library for a movie night to watch it!!\n\n\n\nRegister online at ppl.lib.in.us.
URL:https://whitleychamber.org/event/family-movie-night-at-peabody-public-library/
END:VEVENT
END:VCALENDAR